BEGIN:VCALENDAR
VERSION:2.0
PRODID:-//SpacePolicyOnline.com - ECPv6.15.11//NONSGML v1.0//EN
CALSCALE:GREGORIAN
METHOD:PUBLISH
X-WR-CALNAME:SpacePolicyOnline.com
X-ORIGINAL-URL:https://spacepolicyonline.com
X-WR-CALDESC:Events for SpacePolicyOnline.com
REFRESH-INTERVAL;VALUE=DURATION:PT1H
X-Robots-Tag:noindex
X-PUBLISHED-TTL:PT1H
BEGIN:VTIMEZONE
TZID:America/New_York
BEGIN:DAYLIGHT
TZOFFSETFROM:-0500
TZOFFSETTO:-0400
TZNAME:EDT
DTSTART:20160313T070000
END:DAYLIGHT
BEGIN:STANDARD
TZOFFSETFROM:-0400
TZOFFSETTO:-0500
TZNAME:EST
DTSTART:20161106T060000
END:STANDARD
BEGIN:DAYLIGHT
TZOFFSETFROM:-0500
TZOFFSETTO:-0400
TZNAME:EDT
DTSTART:20170312T070000
END:DAYLIGHT
BEGIN:STANDARD
TZOFFSETFROM:-0400
TZOFFSETTO:-0500
TZNAME:EST
DTSTART:20171105T060000
END:STANDARD
BEGIN:DAYLIGHT
TZOFFSETFROM:-0500
TZOFFSETTO:-0400
TZNAME:EDT
DTSTART:20180311T070000
END:DAYLIGHT
BEGIN:STANDARD
TZOFFSETFROM:-0400
TZOFFSETTO:-0500
TZNAME:EST
DTSTART:20181104T060000
END:STANDARD
END:VTIMEZONE
BEGIN:VEVENT
DTSTART;VALUE=DATE:20170830
DTEND;VALUE=DATE:20170831
DTSTAMP:20260421T094009
CREATED:20170824T164232Z
LAST-MODIFIED:20170830T015510Z
UID:9411-1504051200-1504137599@spacepolicyonline.com
SUMMARY:NASA News Conf with Peggy Whitson from ISS\, Aug 30\, 2017\,
DESCRIPTION:UPDATE August 29:  NASA has cancelled this media telecon because Johnson Space Center is CLOSED due to Hurricane/Tropical Storm Harvey. \nNASA astronaut Peggy Whitson will hold the final news conference of her current mission aboard the International Space Station (ISS) on August 30\, 2017 at 1:00 pm ET. She and two ISS crewmates will return to Earth on September 2. \nWhitson holds the records for the longest cumulative time in space for a U.S. astronaut (665 days once she has landed)\, longest continuous duration in space for a woman (288 days)\, and for the most spacewalks (10) and the most time on spacewalks by a woman (60 hours 21 minutes).  She also is the first woman to command the ISS twice — on this mission and when she was aboard in 2007-2008 (she also was on an ISS  mission in 2002).  At 57\, she is also the oldest woman to fly in space. \nReporters may ask questions from NASA’s Kennedy Space Center\, Johnson Space Center\, or by phone.   NASA’s press release provides more details. \nThe news conference will be broadcast on NASA’s website and NASA TV.
URL:https://spacepolicyonline.com/events/nasa-news-conf-with-peggy-whitson-from-iss-aug-30-2017/
END:VEVENT
END:VCALENDAR