BEGIN:VCALENDAR
VERSION:2.0
PRODID:-//SpacePolicyOnline.com - ECPv6.15.11//NONSGML v1.0//EN
CALSCALE:GREGORIAN
METHOD:PUBLISH
X-WR-CALNAME:SpacePolicyOnline.com
X-ORIGINAL-URL:https://spacepolicyonline.com
X-WR-CALDESC:Events for SpacePolicyOnline.com
REFRESH-INTERVAL;VALUE=DURATION:PT1H
X-Robots-Tag:noindex
X-PUBLISHED-TTL:PT1H
BEGIN:VTIMEZONE
TZID:America/New_York
BEGIN:DAYLIGHT
TZOFFSETFROM:-0500
TZOFFSETTO:-0400
TZNAME:EDT
DTSTART:20220313T070000
END:DAYLIGHT
BEGIN:STANDARD
TZOFFSETFROM:-0400
TZOFFSETTO:-0500
TZNAME:EST
DTSTART:20221106T060000
END:STANDARD
BEGIN:DAYLIGHT
TZOFFSETFROM:-0500
TZOFFSETTO:-0400
TZNAME:EDT
DTSTART:20230312T070000
END:DAYLIGHT
BEGIN:STANDARD
TZOFFSETFROM:-0400
TZOFFSETTO:-0500
TZNAME:EST
DTSTART:20231105T060000
END:STANDARD
BEGIN:DAYLIGHT
TZOFFSETFROM:-0500
TZOFFSETTO:-0400
TZNAME:EDT
DTSTART:20240310T070000
END:DAYLIGHT
BEGIN:STANDARD
TZOFFSETFROM:-0400
TZOFFSETTO:-0500
TZNAME:EST
DTSTART:20241103T060000
END:STANDARD
END:VTIMEZONE
BEGIN:VEVENT
DTSTART;TZID=America/New_York:20230112T110000
DTEND;TZID=America/New_York:20230112T230000
DTSTAMP:20260422T134732
CREATED:20230111T232932Z
LAST-MODIFIED:20230111T232932Z
UID:59261-1673521200-1673564400@spacepolicyonline.com
SUMMARY:NASA\, NOAA ANNOUNCE 2022 GLOBAL TEMPERATURES\, CLIMATE CONDITIONS\, Jan 12\, 2023\, virtual\, 11:00 am ET
DESCRIPTION:NASA and NOAA will release their annual assessments of global temperatures and discuss the major climate trends of 2022 during a media briefing on January 12\, 2023 at 11:00 am ET. \nAudio will be livestreamed on NASA Live. \nParticipants are: \n\nNASA Administrator Bill Nelson\nGavin Schmidt\, director\, NASA’s Goddard Institute for Space Studies\nSarah Kapnick\, chief scientist\, NOAA\nRuss Vose\, chief of the analysis and synthesis branch\, NOAA’s National Centers for Environmental Information
URL:https://spacepolicyonline.com/events/nasa-noaa-announce-2022-global-temperatures-climate-conditions-jan-12-2023-virtual-1100-am-et/
END:VEVENT
END:VCALENDAR