BEGIN:VCALENDAR
VERSION:2.0
PRODID:-//SpacePolicyOnline.com - ECPv6.15.11//NONSGML v1.0//EN
CALSCALE:GREGORIAN
METHOD:PUBLISH
X-WR-CALNAME:SpacePolicyOnline.com
X-ORIGINAL-URL:https://spacepolicyonline.com
X-WR-CALDESC:Events for SpacePolicyOnline.com
REFRESH-INTERVAL;VALUE=DURATION:PT1H
X-Robots-Tag:noindex
X-PUBLISHED-TTL:PT1H
BEGIN:VTIMEZONE
TZID:America/New_York
BEGIN:DAYLIGHT
TZOFFSETFROM:-0500
TZOFFSETTO:-0400
TZNAME:EDT
DTSTART:20220313T070000
END:DAYLIGHT
BEGIN:STANDARD
TZOFFSETFROM:-0400
TZOFFSETTO:-0500
TZNAME:EST
DTSTART:20221106T060000
END:STANDARD
BEGIN:DAYLIGHT
TZOFFSETFROM:-0500
TZOFFSETTO:-0400
TZNAME:EDT
DTSTART:20230312T070000
END:DAYLIGHT
BEGIN:STANDARD
TZOFFSETFROM:-0400
TZOFFSETTO:-0500
TZNAME:EST
DTSTART:20231105T060000
END:STANDARD
BEGIN:DAYLIGHT
TZOFFSETFROM:-0500
TZOFFSETTO:-0400
TZNAME:EDT
DTSTART:20240310T070000
END:DAYLIGHT
BEGIN:STANDARD
TZOFFSETFROM:-0400
TZOFFSETTO:-0500
TZNAME:EST
DTSTART:20241103T060000
END:STANDARD
END:VTIMEZONE
BEGIN:VEVENT
DTSTART;TZID=America/New_York:20230314T123000
DTEND;TZID=America/New_York:20230314T230000
DTSTAMP:20260420T094551
CREATED:20230306T191722Z
LAST-MODIFIED:20230312T201909Z
UID:60383-1678797000-1678834800@spacepolicyonline.com
SUMMARY:NASA OUTER PLANETS ASSESSMENT GROUP (OPAG) MTG AT LPSC\, Mar 14\, 2023\, Woodlands\, TX\, 11:35 am-12:35 pm CENTRAL Time
DESCRIPTION:NASA’s Outer Planets Assessment Group (OPAG) will meet in conjunction with the Lunar and Planetary Sciences Conference (LPSC) at The Woodlands\, TX\, on March 14\, 2023 from 11:35 am-12:35 pm CENTRAL Time (add 1 hour for Eastern). \nNote that the United States changes to DAYLIGHT SAVING TIME on March 12. \nMore information including the WebEx link for virtual participants is on the OPAG website. It says: “OPAG will host a community town hall discussion\, including Q&A with NASA HQ’s Stephen Rinehart.”
URL:https://spacepolicyonline.com/events/nasa-outer-planets-assessment-group-opag-mtg-at-lpsc-mar-14-2023-woodlands-tx-1135-am-1235-pm-central-time/
END:VEVENT
END:VCALENDAR