BEGIN:VCALENDAR
VERSION:2.0
PRODID:-//SpacePolicyOnline.com - ECPv6.15.11//NONSGML v1.0//EN
CALSCALE:GREGORIAN
METHOD:PUBLISH
X-WR-CALNAME:SpacePolicyOnline.com
X-ORIGINAL-URL:https://spacepolicyonline.com
X-WR-CALDESC:Events for SpacePolicyOnline.com
REFRESH-INTERVAL;VALUE=DURATION:PT1H
X-Robots-Tag:noindex
X-PUBLISHED-TTL:PT1H
BEGIN:VTIMEZONE
TZID:America/New_York
BEGIN:DAYLIGHT
TZOFFSETFROM:-0500
TZOFFSETTO:-0400
TZNAME:EDT
DTSTART:20200308T070000
END:DAYLIGHT
BEGIN:STANDARD
TZOFFSETFROM:-0400
TZOFFSETTO:-0500
TZNAME:EST
DTSTART:20201101T060000
END:STANDARD
BEGIN:DAYLIGHT
TZOFFSETFROM:-0500
TZOFFSETTO:-0400
TZNAME:EDT
DTSTART:20210314T070000
END:DAYLIGHT
BEGIN:STANDARD
TZOFFSETFROM:-0400
TZOFFSETTO:-0500
TZNAME:EST
DTSTART:20211107T060000
END:STANDARD
BEGIN:DAYLIGHT
TZOFFSETFROM:-0500
TZOFFSETTO:-0400
TZNAME:EDT
DTSTART:20220313T070000
END:DAYLIGHT
BEGIN:STANDARD
TZOFFSETFROM:-0400
TZOFFSETTO:-0500
TZNAME:EST
DTSTART:20221106T060000
END:STANDARD
END:VTIMEZONE
BEGIN:VEVENT
DTSTART;TZID=America/New_York:20211006T130000
DTEND;TZID=America/New_York:20211006T230000
DTSTAMP:20260420T225234
CREATED:20211001T032921Z
LAST-MODIFIED:20211001T032921Z
UID:47050-1633525200-1633561200@spacepolicyonline.com
SUMMARY:NASA OVERVIEW BRIEFING FOR CREW-3 MISSION\, Oct 6\, 2021\, virtual\, 1:00 pm ET
DESCRIPTION:NASA will hold two media briefings on the upcoming Crew-3 mission to the International Space Station (ISS) on October 6 and October 7\, 2021. Both are virtual and will air live on NASA Television\, the NASA app\, and the agency’s website. \nThe October 6 briefing is at 1:00 pm ET and will provide a mission overview.  Participants are: \n\nKathryn Lueders\, associate administrator\, Space Operations Mission Directorate at NASA Headquarters in Washington\nSteve Stich\, manager\, Commercial Crew Program\, Johnson\nDana Weigel\, deputy manager\, International Space Station\, Johnson\nSarah Walker\, director\, Dragon Mission Management\, SpaceX\nFrank De Winne\, manager\, International Space Station Program\, ESA\n\nThe launch is now scheduled for October 30\, a day earlier than originally planned.
URL:https://spacepolicyonline.com/events/nasa-overview-briefing-for-crew-3-mission-oct-6-2021-virtual-100-pm-et/
END:VEVENT
END:VCALENDAR