BEGIN:VCALENDAR
VERSION:2.0
PRODID:-//SpacePolicyOnline.com - ECPv6.15.11//NONSGML v1.0//EN
CALSCALE:GREGORIAN
METHOD:PUBLISH
X-WR-CALNAME:SpacePolicyOnline.com
X-ORIGINAL-URL:https://spacepolicyonline.com
X-WR-CALDESC:Events for SpacePolicyOnline.com
REFRESH-INTERVAL;VALUE=DURATION:PT1H
X-Robots-Tag:noindex
X-PUBLISHED-TTL:PT1H
BEGIN:VTIMEZONE
TZID:America/New_York
BEGIN:DAYLIGHT
TZOFFSETFROM:-0500
TZOFFSETTO:-0400
TZNAME:EDT
DTSTART:20220313T070000
END:DAYLIGHT
BEGIN:STANDARD
TZOFFSETFROM:-0400
TZOFFSETTO:-0500
TZNAME:EST
DTSTART:20221106T060000
END:STANDARD
BEGIN:DAYLIGHT
TZOFFSETFROM:-0500
TZOFFSETTO:-0400
TZNAME:EDT
DTSTART:20230312T070000
END:DAYLIGHT
BEGIN:STANDARD
TZOFFSETFROM:-0400
TZOFFSETTO:-0500
TZNAME:EST
DTSTART:20231105T060000
END:STANDARD
BEGIN:DAYLIGHT
TZOFFSETFROM:-0500
TZOFFSETTO:-0400
TZNAME:EDT
DTSTART:20240310T070000
END:DAYLIGHT
BEGIN:STANDARD
TZOFFSETFROM:-0400
TZOFFSETTO:-0500
TZNAME:EST
DTSTART:20241103T060000
END:STANDARD
END:VTIMEZONE
BEGIN:VEVENT
DTSTART;TZID=America/New_York:20230228T073000
DTEND;TZID=America/New_York:20230301T230000
DTSTAMP:20260425T222143
CREATED:20230219T210713Z
LAST-MODIFIED:20230228T201830Z
UID:59998-1677569400-1677711600@spacepolicyonline.com
SUMMARY:NASA PLANETARY SCIENCE ADVISORY CMTE\, Feb 28-Mar 1\, 2023\, DC/virtual\, 10:00 am-6:00 pm ET
DESCRIPTION:NASA’s Planetary Science Advisory Committee will meet February 28-March 1\, 2023. It is a hybrid meeting at NASA HQ in Washington\, DC and via WebEx from 10:00 am – 6:00 pm ET each day. \nMore information and the agenda are on the committee’s website.
URL:https://spacepolicyonline.com/events/nasa-planetary-science-advisory-cmte-feb-28-mar-1-2023-dc-virtual-1000-am-600-pm-et/
END:VEVENT
END:VCALENDAR