BEGIN:VCALENDAR
VERSION:2.0
PRODID:-//SpacePolicyOnline.com - ECPv6.15.11//NONSGML v1.0//EN
CALSCALE:GREGORIAN
METHOD:PUBLISH
X-WR-CALNAME:SpacePolicyOnline.com
X-ORIGINAL-URL:https://spacepolicyonline.com
X-WR-CALDESC:Events for SpacePolicyOnline.com
REFRESH-INTERVAL;VALUE=DURATION:PT1H
X-Robots-Tag:noindex
X-PUBLISHED-TTL:PT1H
BEGIN:VTIMEZONE
TZID:America/New_York
BEGIN:DAYLIGHT
TZOFFSETFROM:-0500
TZOFFSETTO:-0400
TZNAME:EDT
DTSTART:20180311T070000
END:DAYLIGHT
BEGIN:STANDARD
TZOFFSETFROM:-0400
TZOFFSETTO:-0500
TZNAME:EST
DTSTART:20181104T060000
END:STANDARD
BEGIN:DAYLIGHT
TZOFFSETFROM:-0500
TZOFFSETTO:-0400
TZNAME:EDT
DTSTART:20190310T070000
END:DAYLIGHT
BEGIN:STANDARD
TZOFFSETFROM:-0400
TZOFFSETTO:-0500
TZNAME:EST
DTSTART:20191103T060000
END:STANDARD
BEGIN:DAYLIGHT
TZOFFSETFROM:-0500
TZOFFSETTO:-0400
TZNAME:EDT
DTSTART:20200308T070000
END:DAYLIGHT
BEGIN:STANDARD
TZOFFSETFROM:-0400
TZOFFSETTO:-0500
TZNAME:EST
DTSTART:20201101T060000
END:STANDARD
END:VTIMEZONE
BEGIN:VEVENT
DTSTART;TZID=America/New_York:20190923T083000
DTEND;TZID=America/New_York:20190924T230000
DTSTAMP:20260422T133121
CREATED:20190910T115604Z
LAST-MODIFIED:20190924T122101Z
UID:28743-1569227400-1569366000@spacepolicyonline.com
SUMMARY:NASA PLANETARY SCIENCE ADVISORY COMMITTEE (PAC)\, Sept 23-24\, 2019\, DC\, 8:30 am - 5:00 pm ET (available remotely)
DESCRIPTION:Update\, Sept 23:  The WebEx link in the Federal Register notice and on the agenda does not work.  A new link is posted on PAC’s website. \nOriginal entry: NASA’s Planetary Science Advisory Committee (PAC) will meet at NASA HQ in Washington\, DC from September 23-24\, 2019 from 8:30 am – 5:00 pm ET both days. \nThe agenda is posted on the committee’s website. \nThe meeting will be available remotely by following the instructions in the Federal Register notice\, which is reproduced below.  They also are on the agenda. \n  \nSUMMARY:  In accordance with the Federal Advisory Committee Act\, as \namended\, the National Aeronautics and Space Administration (NASA)\n\n[[Page 47541]]\n\nannounces a meeting of the Planetary Science Advisory Committee. The \nmeeting will be held for the purpose of soliciting\, from the scientific \ncommunity and other persons\, scientific and technical information \nrelevant to program planning.\n\nDATES:  Monday\, September 23\, 2019\, 8:30 a.m. to 5:00 p.m.\, and \nTuesday\, September 24\, 2019\, 8:30 a.m. to 5:00 p.m.\, Local Time.\n\nADDRESSES: NASA Headquarters\, Room 3D42\, 300 E Street SW\, Washington\, \nDC 20546.\n\nFOR FURTHER INFORMATION CONTACT: Ms. Karshelia Henderson\, Science \nMission Directorate\, NASA Headquarters\, Washington\, DC 20546\, (202) \n358-2355\, fax (202) 358-2779\, or khenderson@nasa.gov.\n\nSUPPLEMENTARY INFORMATION: The meeting will be open to the public up to \nthe capacity of the room. The meeting will be available telephonically \nand by WebEx. Any interested person may call the USA toll free \nconference call number 1-800-779-9966\, passcode 5255996\, on both days\, \nto participate in this meeting by telephone. A toll number also is \navailable\, 1-517-645-6359\, passcode 5255996\, on both days. The WebEx \nlink is https://nasaenterprise.webex.com/; the meeting number on \nSeptember 23 is 904 816 731 and the password is PAC@Sept23 (case \nsensitive)\, and the meeting number on September 24 is 903 388 535 and \nthe password is PAC@Sept24 (case sensitive).\n    The agenda for the meeting includes the following topics:\n\n--Planetary Science Division Update\n--Planetary Science Division Research and Analysis Program Update\n\n    Attendees will be requested to sign a register and to comply with \nNASA Headquarters security requirements\, including the presentation of \na valid picture ID to Security before access to NASA Headquarters. \nForeign nationals attending this meeting will be required to provide a \ncopy of their passport and visa in addition to providing the following \ninformation no less than 10 days prior to the meeting: Full name; \ngender; date/place of birth; citizenship; passport information (number\, \ncountry\, telephone); visa information (number\, type\, expiration date); \nemployer/affiliation information (name of institution\, address\, \ncountry\, telephone); title/position of attendee. To expedite \nadmittance\, U.S. citizens and Permanent Residents (green card holders) \nare requested to provide full name and citizenship status no less than \n3 working days in advance. Information should be sent to Ms. Karshelia \nHenderson\, via email at khenderson@nasa.gov or by fax at (202) 358-\n2779. It is imperative that the meeting be held on these dates to \naccommodate the scheduling priorities of the key participants.
URL:https://spacepolicyonline.com/events/nasa-planetary-science-advisory-committee-sept-23-24-2019-dc-830-am-500-pm-et-available-remotely/
END:VEVENT
END:VCALENDAR