BEGIN:VCALENDAR
VERSION:2.0
PRODID:-//SpacePolicyOnline.com - ECPv6.15.11//NONSGML v1.0//EN
CALSCALE:GREGORIAN
METHOD:PUBLISH
X-WR-CALNAME:SpacePolicyOnline.com
X-ORIGINAL-URL:https://spacepolicyonline.com
X-WR-CALDESC:Events for SpacePolicyOnline.com
REFRESH-INTERVAL;VALUE=DURATION:PT1H
X-Robots-Tag:noindex
X-PUBLISHED-TTL:PT1H
BEGIN:VTIMEZONE
TZID:America/New_York
BEGIN:DAYLIGHT
TZOFFSETFROM:-0500
TZOFFSETTO:-0400
TZNAME:EDT
DTSTART:20240310T070000
END:DAYLIGHT
BEGIN:STANDARD
TZOFFSETFROM:-0400
TZOFFSETTO:-0500
TZNAME:EST
DTSTART:20241103T060000
END:STANDARD
BEGIN:DAYLIGHT
TZOFFSETFROM:-0500
TZOFFSETTO:-0400
TZNAME:EDT
DTSTART:20250309T070000
END:DAYLIGHT
BEGIN:STANDARD
TZOFFSETFROM:-0400
TZOFFSETTO:-0500
TZNAME:EST
DTSTART:20251102T060000
END:STANDARD
BEGIN:DAYLIGHT
TZOFFSETFROM:-0500
TZOFFSETTO:-0400
TZNAME:EDT
DTSTART:20260308T070000
END:DAYLIGHT
BEGIN:STANDARD
TZOFFSETFROM:-0400
TZOFFSETTO:-0500
TZNAME:EST
DTSTART:20261101T060000
END:STANDARD
END:VTIMEZONE
BEGIN:VEVENT
DTSTART;TZID=America/New_York:20250729T123000
DTEND;TZID=America/New_York:20250729T230000
DTSTAMP:20260419T141600
CREATED:20250720T202216Z
LAST-MODIFIED:20250720T202329Z
UID:82692-1753792200-1753830000@spacepolicyonline.com
SUMMARY:NASA PLANETARY SCIENCE DIVISION ROSES ROLL-OUT\, July 29\, 2025\, virtual\, 12:30 pm ET
DESCRIPTION:NASA’s Planetary Sciences Division will hold a webinar on July 29\, 2025 at 12:30 pm ET to discuss the recently released Research Opportunities in Space and Earth Science (ROSES) opportunity. \nMore information is on NASA’s website\, which says: \nPlanetary Science Division ROSES Roll Out July 29 12:30 PM Eastern\nOn July 29\, 2025\, at 12:30 PM Eastern Time\, NASA’s Planetary Science Division (PSD) Research and Analysis (R&A) Programs will host a webinar to discuss the recently released Research Opportunities in Space and Earth Science (ROSES) relevant to the Planetary Science Community. \nNASA’s Science Mission Directorate (SMD) announced the release of its annual omnibus solicitation for basic and applied research\, ROSES-2025 as NNH25ZDA001N on or about July 10\, 2025\, at\nhttps://solicitation.nasaprs.com/ROSES2025. This webinar is an opportunity for the PSD to discuss program elements available for the planetary science community to propose to. \nIn advance of and during the webinar\, questions may be submitted and upvoted on at:\nhttps://nasa.cnf.io/sessions/ss4t/#!/dashboard \nJoin link:\nhttps://nasaevents.webex.com/nasaevents/j.php?MTID=m108697d5492b17ad8a6607c8b4cae66f \nWebinar number:\n2821 078 7645 \nWebinar password:\nxKwZry59Ek3 (95997959 when dialing from a phone or video system) \nJoin by phone\n+1-415-527-5035 United States Toll\n+1-312-500-3163 United States Toll (Chicago) \nAccess code: 282 107 87645 \nQuestions regarding this announcement may be directed to Dr. Kathleen Vander Kaaden\, Director of Planetary Research Programs\, at Kathleen.e.vanderkaaden@nasa.gov.
URL:https://spacepolicyonline.com/events/nasa-planetary-science-division-roses-roll-out-july-29-2025-virtual-1230-pm-et/
END:VEVENT
END:VCALENDAR