BEGIN:VCALENDAR
VERSION:2.0
PRODID:-//SpacePolicyOnline.com - ECPv6.15.11//NONSGML v1.0//EN
CALSCALE:GREGORIAN
METHOD:PUBLISH
X-WR-CALNAME:SpacePolicyOnline.com
X-ORIGINAL-URL:https://spacepolicyonline.com
X-WR-CALDESC:Events for SpacePolicyOnline.com
REFRESH-INTERVAL;VALUE=DURATION:PT1H
X-Robots-Tag:noindex
X-PUBLISHED-TTL:PT1H
BEGIN:VTIMEZONE
TZID:America/New_York
BEGIN:DAYLIGHT
TZOFFSETFROM:-0500
TZOFFSETTO:-0400
TZNAME:EDT
DTSTART:20240310T070000
END:DAYLIGHT
BEGIN:STANDARD
TZOFFSETFROM:-0400
TZOFFSETTO:-0500
TZNAME:EST
DTSTART:20241103T060000
END:STANDARD
BEGIN:DAYLIGHT
TZOFFSETFROM:-0500
TZOFFSETTO:-0400
TZNAME:EDT
DTSTART:20250309T070000
END:DAYLIGHT
BEGIN:STANDARD
TZOFFSETFROM:-0400
TZOFFSETTO:-0500
TZNAME:EST
DTSTART:20251102T060000
END:STANDARD
BEGIN:DAYLIGHT
TZOFFSETFROM:-0500
TZOFFSETTO:-0400
TZNAME:EDT
DTSTART:20260308T070000
END:DAYLIGHT
BEGIN:STANDARD
TZOFFSETFROM:-0400
TZOFFSETTO:-0500
TZNAME:EST
DTSTART:20261101T060000
END:STANDARD
END:VTIMEZONE
BEGIN:VEVENT
DTSTART;TZID=America/New_York:20250424T140000
DTEND;TZID=America/New_York:20250424T230000
DTSTAMP:20260419T193342
CREATED:20250419T160626Z
LAST-MODIFIED:20250419T160626Z
UID:80229-1745503200-1745535600@spacepolicyonline.com
SUMMARY:NASA PREVIEW OF UPCOMING ISS SPACEWALK\, Apr 24\, 2025\, JSC\, 2:00 pm ET
DESCRIPTION:NASA will hold a news conference at Johnson Space Center on April 24\, 2025 at 2:00 pm ET to preview the upcoming spacewalk by NASA astronauts Anne McClain and Nichole Ayers on May 1. \nMore information\, including a link to watch the briefing\, is in NASA’s press release. \nParticipants are: \n\nBill Spetch\, operations integration manager\, International Space Station Program\nDiana Trujillo\, spacewalk flight director\, NASA Johnson\n\n  \n 
URL:https://spacepolicyonline.com/events/nasa-preview-of-upcoming-iss-spacewalk-apr-24-2025-jsc-200-pm-et/
END:VEVENT
END:VCALENDAR