BEGIN:VCALENDAR
VERSION:2.0
PRODID:-//SpacePolicyOnline.com - ECPv6.15.11//NONSGML v1.0//EN
CALSCALE:GREGORIAN
METHOD:PUBLISH
X-WR-CALNAME:SpacePolicyOnline.com
X-ORIGINAL-URL:https://spacepolicyonline.com
X-WR-CALDESC:Events for SpacePolicyOnline.com
REFRESH-INTERVAL;VALUE=DURATION:PT1H
X-Robots-Tag:noindex
X-PUBLISHED-TTL:PT1H
BEGIN:VTIMEZONE
TZID:America/New_York
BEGIN:DAYLIGHT
TZOFFSETFROM:-0500
TZOFFSETTO:-0400
TZNAME:EDT
DTSTART:20220313T070000
END:DAYLIGHT
BEGIN:STANDARD
TZOFFSETFROM:-0400
TZOFFSETTO:-0500
TZNAME:EST
DTSTART:20221106T060000
END:STANDARD
BEGIN:DAYLIGHT
TZOFFSETFROM:-0500
TZOFFSETTO:-0400
TZNAME:EDT
DTSTART:20230312T070000
END:DAYLIGHT
BEGIN:STANDARD
TZOFFSETFROM:-0400
TZOFFSETTO:-0500
TZNAME:EST
DTSTART:20231105T060000
END:STANDARD
BEGIN:DAYLIGHT
TZOFFSETFROM:-0500
TZOFFSETTO:-0400
TZNAME:EDT
DTSTART:20240310T070000
END:DAYLIGHT
BEGIN:STANDARD
TZOFFSETFROM:-0400
TZOFFSETTO:-0500
TZNAME:EST
DTSTART:20241103T060000
END:STANDARD
END:VTIMEZONE
BEGIN:VEVENT
DTSTART;TZID=America/New_York:20230124T073000
DTEND;TZID=America/New_York:20230125T230000
DTSTAMP:20260422T080513
CREATED:20220808T161635Z
LAST-MODIFIED:20230120T210900Z
UID:55456-1674545400-1674687600@spacepolicyonline.com
SUMMARY:NASA SMALL BODIES ASSESSMENT GROUP (SBAG)\, Jan 24-25\, 2023\, Pasadena\, CA/virtual
DESCRIPTION:NASA’s Small Bodies Assessment Group (SBAG) will meet January 24-25\, 2023 at the California Institute of Technology in Pasadena\, CA and online. \nMore information is on the SBAG website. \nThe agenda is posted.
URL:https://spacepolicyonline.com/events/nasa-small-bodies-assessment-group-sbag-jan-24-26-2023-pasadena-ca-viirtual/
END:VEVENT
END:VCALENDAR