BEGIN:VCALENDAR
VERSION:2.0
PRODID:-//SpacePolicyOnline.com - ECPv6.15.11//NONSGML v1.0//EN
CALSCALE:GREGORIAN
METHOD:PUBLISH
X-WR-CALNAME:SpacePolicyOnline.com
X-ORIGINAL-URL:https://spacepolicyonline.com
X-WR-CALDESC:Events for SpacePolicyOnline.com
REFRESH-INTERVAL;VALUE=DURATION:PT1H
X-Robots-Tag:noindex
X-PUBLISHED-TTL:PT1H
BEGIN:VTIMEZONE
TZID:America/New_York
BEGIN:DAYLIGHT
TZOFFSETFROM:-0500
TZOFFSETTO:-0400
TZNAME:EDT
DTSTART:20220313T070000
END:DAYLIGHT
BEGIN:STANDARD
TZOFFSETFROM:-0400
TZOFFSETTO:-0500
TZNAME:EST
DTSTART:20221106T060000
END:STANDARD
BEGIN:DAYLIGHT
TZOFFSETFROM:-0500
TZOFFSETTO:-0400
TZNAME:EDT
DTSTART:20230312T070000
END:DAYLIGHT
BEGIN:STANDARD
TZOFFSETFROM:-0400
TZOFFSETTO:-0500
TZNAME:EST
DTSTART:20231105T060000
END:STANDARD
BEGIN:DAYLIGHT
TZOFFSETFROM:-0500
TZOFFSETTO:-0400
TZNAME:EDT
DTSTART:20240310T070000
END:DAYLIGHT
BEGIN:STANDARD
TZOFFSETFROM:-0400
TZOFFSETTO:-0500
TZNAME:EST
DTSTART:20241103T060000
END:STANDARD
END:VTIMEZONE
BEGIN:VEVENT
DTSTART;TZID=America/New_York:20230118T160000
DTEND;TZID=America/New_York:20230118T230000
DTSTAMP:20260422T083945
CREATED:20230112T205007Z
LAST-MODIFIED:20230112T205007Z
UID:59270-1674057600-1674082800@spacepolicyonline.com
SUMMARY:NASA SMD TOWN HALL\, Jan 18\, 2023\, virtual\, 4:00-5:00 pm ET
DESCRIPTION:NASA’s Science Mission Directorate\, now under the leadership of Acting Associate Administrator Sandra Connelly\, will hold a virtual Town Hall meeting on January 18\, 2023 via WebEx from 4:00-5:00 pm ET. \nMore information is in the emailed announcement: \n  \nTitle: SMD Quarterly Community Town Hall – January 2023 \nDate: Jan. 18\, 2023 \nTime: 4:00 pm – 5:00 pm ET \nLocation: WebEx \nDescription: NASA’s Science Mission Directorate will hold a community town hall meeting with Acting Associate Administrator for Science Sandra Connelly and her leadership team at 4:00 p.m. Eastern on Wednesday\, January 18\, to discuss NASA’s science program accomplishments and upcoming activities in the new year. Participants are invited to submit their questions below and/or vote up questions already posted. Members of SMD\, the science community\, academia\, the media\, and the public are invited to participate by joining the WebEx link below. \nhttps://nasaenterprise.webex.com/nasaenterprise/j.php?MTID=m412bc38f0b5411102cec1f7a406cb975\n \nIf prompted\, please use event number 2761 723 9855\, followed by event password UPmtRaM@552 (87687261 from phones). \nParticipants are invited to submit their questions below and/or vote up questions already posted. To ask a question\, go to the link below: \nSMD January 2023 Community Town Hall – NASA (cnf.io)\n \nUsers must provide their first and last name and organization and can submit their own questions or vote up questions submitted by others. The meeting leaders will try to answer as many of the submitted questions as possible. \nPresentation materials will be available for download and a recording will be available later that day at: \nhttps://science.nasa.gov
URL:https://spacepolicyonline.com/events/nasa-smd-town-hall-jan-18-2023-virtual-400-500-pm-et/
END:VEVENT
END:VCALENDAR