BEGIN:VCALENDAR
VERSION:2.0
PRODID:-//SpacePolicyOnline.com - ECPv6.15.11//NONSGML v1.0//EN
CALSCALE:GREGORIAN
METHOD:PUBLISH
X-WR-CALNAME:SpacePolicyOnline.com
X-ORIGINAL-URL:https://spacepolicyonline.com
X-WR-CALDESC:Events for SpacePolicyOnline.com
REFRESH-INTERVAL;VALUE=DURATION:PT1H
X-Robots-Tag:noindex
X-PUBLISHED-TTL:PT1H
BEGIN:VTIMEZONE
TZID:America/New_York
BEGIN:DAYLIGHT
TZOFFSETFROM:-0500
TZOFFSETTO:-0400
TZNAME:EDT
DTSTART:20230312T070000
END:DAYLIGHT
BEGIN:STANDARD
TZOFFSETFROM:-0400
TZOFFSETTO:-0500
TZNAME:EST
DTSTART:20231105T060000
END:STANDARD
BEGIN:DAYLIGHT
TZOFFSETFROM:-0500
TZOFFSETTO:-0400
TZNAME:EDT
DTSTART:20240310T070000
END:DAYLIGHT
BEGIN:STANDARD
TZOFFSETFROM:-0400
TZOFFSETTO:-0500
TZNAME:EST
DTSTART:20241103T060000
END:STANDARD
BEGIN:DAYLIGHT
TZOFFSETFROM:-0500
TZOFFSETTO:-0400
TZNAME:EDT
DTSTART:20250309T070000
END:DAYLIGHT
BEGIN:STANDARD
TZOFFSETFROM:-0400
TZOFFSETTO:-0500
TZNAME:EST
DTSTART:20251102T060000
END:STANDARD
END:VTIMEZONE
BEGIN:VEVENT
DTSTART;TZID=America/New_York:20240117T153000
DTEND;TZID=America/New_York:20240117T230000
DTSTAMP:20260419T162716
CREATED:20231230T175705Z
LAST-MODIFIED:20240109T225321Z
UID:67603-1705505400-1705532400@spacepolicyonline.com
SUMMARY:NASA SMD TOWN HALL MEETING: MSR IRB RESPONSE TEAM (MIRT) UPDATE\, ?\, 2024\, virtual
DESCRIPTION:Update\, January 9:  NASA confirms the meeting has been cancelled for now. A new date has not been set. \nUpdate\, January 6: This meeting is no longer listed on the SMD website for Town Hall meetings. We’re checking to see if it’s been cancelled or postponed. \nOriginal Entry: NASA’s Science Mission Directorate (SMD) will hold a virtual Town Hall meeting on January 17\, 2024 from 3:30-4:30 pm ET to provide an update on NASA’s response to the report from the Mars Sample Return (MSR) Independent Review Board-2 (IRB-2) that was released in September 2023.  SMD Deputy Administrator Sandra Connelly is leading NASA’s response to the IRB-2’s recommendations\, which is expected to be completed in March. \nMore information and instructions on how to participate are on SMD’s website.
URL:https://spacepolicyonline.com/events/nasa-smd-town-hall-meeting-msr-irb-response-team-mirt-update-jan-17-2024-virtual-330-430-pm-et/
END:VEVENT
END:VCALENDAR