BEGIN:VCALENDAR
VERSION:2.0
PRODID:-//SpacePolicyOnline.com - ECPv6.15.11//NONSGML v1.0//EN
CALSCALE:GREGORIAN
METHOD:PUBLISH
X-WR-CALNAME:SpacePolicyOnline.com
X-ORIGINAL-URL:https://spacepolicyonline.com
X-WR-CALDESC:Events for SpacePolicyOnline.com
REFRESH-INTERVAL;VALUE=DURATION:PT1H
X-Robots-Tag:noindex
X-PUBLISHED-TTL:PT1H
BEGIN:VTIMEZONE
TZID:America/New_York
BEGIN:DAYLIGHT
TZOFFSETFROM:-0500
TZOFFSETTO:-0400
TZNAME:EDT
DTSTART:20200308T070000
END:DAYLIGHT
BEGIN:STANDARD
TZOFFSETFROM:-0400
TZOFFSETTO:-0500
TZNAME:EST
DTSTART:20201101T060000
END:STANDARD
BEGIN:DAYLIGHT
TZOFFSETFROM:-0500
TZOFFSETTO:-0400
TZNAME:EDT
DTSTART:20210314T070000
END:DAYLIGHT
BEGIN:STANDARD
TZOFFSETFROM:-0400
TZOFFSETTO:-0500
TZNAME:EST
DTSTART:20211107T060000
END:STANDARD
BEGIN:DAYLIGHT
TZOFFSETFROM:-0500
TZOFFSETTO:-0400
TZNAME:EDT
DTSTART:20220313T070000
END:DAYLIGHT
BEGIN:STANDARD
TZOFFSETFROM:-0400
TZOFFSETTO:-0500
TZNAME:EST
DTSTART:20221106T060000
END:STANDARD
END:VTIMEZONE
BEGIN:VEVENT
DTSTART;TZID=America/New_York:20211018T150000
DTEND;TZID=America/New_York:20211018T230000
DTSTAMP:20260420T211439
CREATED:20211013T234821Z
LAST-MODIFIED:20211013T234821Z
UID:47357-1634569200-1634598000@spacepolicyonline.com
SUMMARY:NASA SMD TOWN HALL MEETING\, Oct 18\, 2021\, virtual\, 3:00 pm ET
DESCRIPTION:Thomas Zurbuchen\, NASA Associate Administrator for the Science Mission Directorate (SMD) will hold a virtual Town Hall meeting for the space science community on October 18\, 2021 at 3:00 pm ET. \nInformation on how to participate in the virtual meeting is in the NASA press release and reproduced below. \n\nNASA’s Science Mission Directorate will hold a community town hall meeting at 3 p.m. EDT Monday\, Oct. 18. Associate Administrator for Science Thomas H. Zurbuchen and his leadership team will discuss updates to NASA’s science programs. \nMembers of the science community\, academia\, the media\, and the public are invited to participate by joining at: \nhttps://go.nasa.gov/3jfVYTR \nIf prompted\, please enter: \n\nEvent number: 2762 947 3249\nEvent password gKt23HPT75w\n\nTo ask a question during or prior to the meeting\, participants may go to: \nhttps://nasa.cnf.io/sessions/m27c/#!/dashboard \nUsers must provide their first and last names and organizations\, and can submit their own questions or vote up questions submitted by others. Meeting leaders will try to answer as many submitted questions as possible. \nThis town hall will be recorded. Presentation materials for the meeting will be available for download and a recording will be available later that day at: \nhttps://science.nasa.gov \n  \n-end-
URL:https://spacepolicyonline.com/events/nasa-smd-town-hall-meeting-oct-18-2021-virtual-300-pm-et/
END:VEVENT
END:VCALENDAR