BEGIN:VCALENDAR
VERSION:2.0
PRODID:-//SpacePolicyOnline.com - ECPv6.15.11//NONSGML v1.0//EN
CALSCALE:GREGORIAN
METHOD:PUBLISH
X-WR-CALNAME:SpacePolicyOnline.com
X-ORIGINAL-URL:https://spacepolicyonline.com
X-WR-CALDESC:Events for SpacePolicyOnline.com
REFRESH-INTERVAL;VALUE=DURATION:PT1H
X-Robots-Tag:noindex
X-PUBLISHED-TTL:PT1H
BEGIN:VTIMEZONE
TZID:America/New_York
BEGIN:DAYLIGHT
TZOFFSETFROM:-0500
TZOFFSETTO:-0400
TZNAME:EDT
DTSTART:20200308T070000
END:DAYLIGHT
BEGIN:STANDARD
TZOFFSETFROM:-0400
TZOFFSETTO:-0500
TZNAME:EST
DTSTART:20201101T060000
END:STANDARD
BEGIN:DAYLIGHT
TZOFFSETFROM:-0500
TZOFFSETTO:-0400
TZNAME:EDT
DTSTART:20210314T070000
END:DAYLIGHT
BEGIN:STANDARD
TZOFFSETFROM:-0400
TZOFFSETTO:-0500
TZNAME:EST
DTSTART:20211107T060000
END:STANDARD
BEGIN:DAYLIGHT
TZOFFSETFROM:-0500
TZOFFSETTO:-0400
TZNAME:EDT
DTSTART:20220313T070000
END:DAYLIGHT
BEGIN:STANDARD
TZOFFSETFROM:-0400
TZOFFSETTO:-0500
TZNAME:EST
DTSTART:20221106T060000
END:STANDARD
END:VTIMEZONE
BEGIN:VEVENT
DTSTART;TZID=America/New_York:20210617T130000
DTEND;TZID=America/New_York:20210617T230000
DTSTAMP:20260420T005928
CREATED:20210606T154927Z
LAST-MODIFIED:20210606T154927Z
UID:44520-1623934800-1623970800@spacepolicyonline.com
SUMMARY:NASA & SPACE NUCLEAR PROPULSION (Aerospace Corp.)\, June 17\, 2021\, virtual\, 1:00 pm ET
DESCRIPTION:The Aerospace Corporation will hold the next in its Space Policy Show webinar series on June 17\, 2021 at 1:00 pm ET. \nThe topic is “NASA & Space Nuclear Propulsion.” \nMore information is on the event’s website\, which says: \nUsing nuclear propulsion systems for space missions has been researched for decades. But invigorated by new Mars missions for humans and the 2020 NSP\, nuclear (thermal and electric) propulsion is getting lots of attention and research funding. In this episode listen to Aerospace expert Greg Meholic talk to Michael Houts\, Nuclear Research Manager for the NASA Marshall Space Flight Center.
URL:https://spacepolicyonline.com/events/nasa-space-nuclear-propulsion-aerospace-corp-june-17-2021-virtual-100-pm-et/
END:VEVENT
END:VCALENDAR