BEGIN:VCALENDAR
VERSION:2.0
PRODID:-//SpacePolicyOnline.com - ECPv6.15.11//NONSGML v1.0//EN
CALSCALE:GREGORIAN
METHOD:PUBLISH
X-WR-CALNAME:SpacePolicyOnline.com
X-ORIGINAL-URL:https://spacepolicyonline.com
X-WR-CALDESC:Events for SpacePolicyOnline.com
REFRESH-INTERVAL;VALUE=DURATION:PT1H
X-Robots-Tag:noindex
X-PUBLISHED-TTL:PT1H
BEGIN:VTIMEZONE
TZID:America/New_York
BEGIN:DAYLIGHT
TZOFFSETFROM:-0500
TZOFFSETTO:-0400
TZNAME:EDT
DTSTART:20200308T070000
END:DAYLIGHT
BEGIN:STANDARD
TZOFFSETFROM:-0400
TZOFFSETTO:-0500
TZNAME:EST
DTSTART:20201101T060000
END:STANDARD
BEGIN:DAYLIGHT
TZOFFSETFROM:-0500
TZOFFSETTO:-0400
TZNAME:EDT
DTSTART:20210314T070000
END:DAYLIGHT
BEGIN:STANDARD
TZOFFSETFROM:-0400
TZOFFSETTO:-0500
TZNAME:EST
DTSTART:20211107T060000
END:STANDARD
BEGIN:DAYLIGHT
TZOFFSETFROM:-0500
TZOFFSETTO:-0400
TZNAME:EDT
DTSTART:20220313T070000
END:DAYLIGHT
BEGIN:STANDARD
TZOFFSETFROM:-0400
TZOFFSETTO:-0500
TZNAME:EST
DTSTART:20221106T060000
END:STANDARD
END:VTIMEZONE
BEGIN:VEVENT
DTSTART;TZID=America/New_York:20211108T073000
DTEND;TZID=America/New_York:20211110T230000
DTSTAMP:20260420T154228
CREATED:20211102T205525Z
LAST-MODIFIED:20211102T205526Z
UID:47933-1636356600-1636585200@spacepolicyonline.com
SUMMARY:NASA SYMPOSIUM: SPACEFLIGHT FOR EVERYBODY\, Nov 8-10\, 2021\, virtual\, 10:00 am ET
DESCRIPTION:NASA will hold a three-day symposium\, Spaceflight for Everybody\, to “communicate the current state of NASA spaceflight health knowledge.” \nThe symposium will take place virtually November 8-10\, begining at 10:00 am ET each day. The entire event will be livestreamed and is aimed at scientists and researchers in space medicine and health related areas\, and the public. \nMore information including the agenda are on the event’s website. \nSpeakers include: \n\nPam Melroy\, NASA deputy administrator\nKathryn Lueders\, associate administrator for Space Operations at NASA Headquarters in Washington\nDr. J.D. Polk\, NASA chief health and medical officer\nVanessa Wyche\, director of NASA’s Johnson Space Center in Houston\nDr. Serena Auñón-Chancellor\, NASA astronaut\nCharles Bolden\, former NASA administrator
URL:https://spacepolicyonline.com/events/nasa-symposium-spaceflight-for-everybody-nov-8-10-2021-virtual-1000-am-et/
END:VEVENT
END:VCALENDAR