BEGIN:VCALENDAR
VERSION:2.0
PRODID:-//SpacePolicyOnline.com - ECPv6.15.11//NONSGML v1.0//EN
CALSCALE:GREGORIAN
METHOD:PUBLISH
X-WR-CALNAME:SpacePolicyOnline.com
X-ORIGINAL-URL:https://spacepolicyonline.com
X-WR-CALDESC:Events for SpacePolicyOnline.com
REFRESH-INTERVAL;VALUE=DURATION:PT1H
X-Robots-Tag:noindex
X-PUBLISHED-TTL:PT1H
BEGIN:VTIMEZONE
TZID:America/New_York
BEGIN:DAYLIGHT
TZOFFSETFROM:-0500
TZOFFSETTO:-0400
TZNAME:EDT
DTSTART:20180311T070000
END:DAYLIGHT
BEGIN:STANDARD
TZOFFSETFROM:-0400
TZOFFSETTO:-0500
TZNAME:EST
DTSTART:20181104T060000
END:STANDARD
BEGIN:DAYLIGHT
TZOFFSETFROM:-0500
TZOFFSETTO:-0400
TZNAME:EDT
DTSTART:20190310T070000
END:DAYLIGHT
BEGIN:STANDARD
TZOFFSETFROM:-0400
TZOFFSETTO:-0500
TZNAME:EST
DTSTART:20191103T060000
END:STANDARD
BEGIN:DAYLIGHT
TZOFFSETFROM:-0500
TZOFFSETTO:-0400
TZNAME:EDT
DTSTART:20200308T070000
END:DAYLIGHT
BEGIN:STANDARD
TZOFFSETFROM:-0400
TZOFFSETTO:-0500
TZNAME:EST
DTSTART:20201101T060000
END:STANDARD
END:VTIMEZONE
BEGIN:VEVENT
DTSTART;TZID=America/New_York:20191018T153000
DTEND;TZID=America/New_York:20191018T230000
DTSTAMP:20260420T030718
CREATED:20191016T183314Z
LAST-MODIFIED:20191016T184057Z
UID:29748-1571412600-1571439600@spacepolicyonline.com
SUMMARY:NASA TELECON ON FINDINGS AND RECOMMENDATIONS FROM REVIEW OF PLANETARY PROTECTION GUIDELINES\, Oct 18\, 2019\, virtual\, 3:30 pm ET (NASA Live)
DESCRIPTION:NASA will hold a media telecon on October 18\, 2019 at 3:30 pm ET to discuss the findings and recommendations from its recent review of planetary protection guidelines.  The guidelines were reviewed by a committee chaired by Alan Stern of the Southwest Research Institute. \nAudio of the teleconference will be livestreamed on NASA Live. \nParticipants are: \n\nThomas Zurbuchen\, associate administrator for NASA’s Science Mission Directorate\nAlan Stern\, planetary scientist and associate vice president of the Space Science and Engineering Division\, Southwest Research Institute\, Boulder\, Colorado\nTommy Sanford\, executive director\, Commercial Spaceflight Federation\, Washington.\nAmanda Hendrix\, senior scientist\, Planetary Science Institute\, Lakewood\, Colorado\n\nThe committee’s report will be posted on NASA’s website at 11:00 am ET (a specific URL was not provided\, but NASA’s planetary protection effort is part of its Office of Safety and Mission Assurance).
URL:https://spacepolicyonline.com/events/nasa-telecon-on-findings-and-recommendations-from-review-of-planetary-protection-guidelines-oct-18-2019-virtual-330-pm-et-nasa-live/
END:VEVENT
END:VCALENDAR