BEGIN:VCALENDAR
VERSION:2.0
PRODID:-//SpacePolicyOnline.com - ECPv6.15.11//NONSGML v1.0//EN
CALSCALE:GREGORIAN
METHOD:PUBLISH
X-WR-CALNAME:SpacePolicyOnline.com
X-ORIGINAL-URL:https://spacepolicyonline.com
X-WR-CALDESC:Events for SpacePolicyOnline.com
REFRESH-INTERVAL;VALUE=DURATION:PT1H
X-Robots-Tag:noindex
X-PUBLISHED-TTL:PT1H
BEGIN:VTIMEZONE
TZID:America/New_York
BEGIN:DAYLIGHT
TZOFFSETFROM:-0500
TZOFFSETTO:-0400
TZNAME:EDT
DTSTART:20230312T070000
END:DAYLIGHT
BEGIN:STANDARD
TZOFFSETFROM:-0400
TZOFFSETTO:-0500
TZNAME:EST
DTSTART:20231105T060000
END:STANDARD
BEGIN:DAYLIGHT
TZOFFSETFROM:-0500
TZOFFSETTO:-0400
TZNAME:EDT
DTSTART:20240310T070000
END:DAYLIGHT
BEGIN:STANDARD
TZOFFSETFROM:-0400
TZOFFSETTO:-0500
TZNAME:EST
DTSTART:20241103T060000
END:STANDARD
BEGIN:DAYLIGHT
TZOFFSETFROM:-0500
TZOFFSETTO:-0400
TZNAME:EDT
DTSTART:20250309T070000
END:DAYLIGHT
BEGIN:STANDARD
TZOFFSETFROM:-0400
TZOFFSETTO:-0500
TZNAME:EST
DTSTART:20251102T060000
END:STANDARD
END:VTIMEZONE
BEGIN:VEVENT
DTSTART;TZID=America/New_York:20240123T130000
DTEND;TZID=America/New_York:20240123T230000
DTSTAMP:20260420T024832
CREATED:20240120T155539Z
LAST-MODIFIED:20240120T155618Z
UID:68167-1706014800-1706050800@spacepolicyonline.com
SUMMARY:NASA TOWN HALL MEETING ON SAFETY\, Jan 23\, 2024\, DC/virtual\, 1:00 pm ET (livestreamed)
DESCRIPTION:NASA Administrator Bill Nelson\, Deputy Administrator Pam Melroy and Associate Administrator Jim Free will hold a Town Hall meeting at NASA HQ in Washington\, DC to discuss “how NASA safety is the cornerstone to achieving mission success.” It will be livestreamed on the NASA+ streaming service\, NASA TV and the agency’s website. \nThe event will take place two days before NASA’s annual Day of Remembrance observance in honor of fallen astronauts.
URL:https://spacepolicyonline.com/events/nasa-town-hall-meeting-on-safety-jan-23-2024-dc-virtual-100-pm-et/
END:VEVENT
END:VCALENDAR