BEGIN:VCALENDAR
VERSION:2.0
PRODID:-//SpacePolicyOnline.com - ECPv6.15.11//NONSGML v1.0//EN
CALSCALE:GREGORIAN
METHOD:PUBLISH
X-WR-CALNAME:SpacePolicyOnline.com
X-ORIGINAL-URL:https://spacepolicyonline.com
X-WR-CALDESC:Events for SpacePolicyOnline.com
REFRESH-INTERVAL;VALUE=DURATION:PT1H
X-Robots-Tag:noindex
X-PUBLISHED-TTL:PT1H
BEGIN:VTIMEZONE
TZID:America/New_York
BEGIN:DAYLIGHT
TZOFFSETFROM:-0500
TZOFFSETTO:-0400
TZNAME:EDT
DTSTART:20220313T070000
END:DAYLIGHT
BEGIN:STANDARD
TZOFFSETFROM:-0400
TZOFFSETTO:-0500
TZNAME:EST
DTSTART:20221106T060000
END:STANDARD
BEGIN:DAYLIGHT
TZOFFSETFROM:-0500
TZOFFSETTO:-0400
TZNAME:EDT
DTSTART:20230312T070000
END:DAYLIGHT
BEGIN:STANDARD
TZOFFSETFROM:-0400
TZOFFSETTO:-0500
TZNAME:EST
DTSTART:20231105T060000
END:STANDARD
BEGIN:DAYLIGHT
TZOFFSETFROM:-0500
TZOFFSETTO:-0400
TZNAME:EDT
DTSTART:20240310T070000
END:DAYLIGHT
BEGIN:STANDARD
TZOFFSETFROM:-0400
TZOFFSETTO:-0500
TZNAME:EST
DTSTART:20241103T060000
END:STANDARD
END:VTIMEZONE
BEGIN:VEVENT
DTSTART;TZID=America/New_York:20230124T123000
DTEND;TZID=America/New_York:20230124T230000
DTSTAMP:20260422T161729
CREATED:20230120T204554Z
LAST-MODIFIED:20230120T204554Z
UID:59418-1674563400-1674601200@spacepolicyonline.com
SUMMARY:NASA TOWN HALL MTG RE DAY OF REMEMBRANCE\, Jan 24\, 2023\, DC\, 12:30 pm ET
DESCRIPTION:NASA will hold an agency Town Hall meeting on January 24\, 2023 at 12:30 pm ET at NASA HQ in Washington\, DC associated with the Day of Remembrance (which is on January 26 this year) honoring fallen astronauts. \nNASA Administrator Bill Nelson\, Deputy Administrator Pam Melroy\, and Associate Administrator Bob Cabana will host a dialogue with employees about the invaluable lessons learned over the decades and the importance of a strong safety culture. The town hall will stream live on NASA TV\, the NASA app\, and the agency’s website.
URL:https://spacepolicyonline.com/events/nasa-town-hall-mtg-re-day-of-remembrance-jan-24-2023-dc-1230-pm-et/
END:VEVENT
END:VCALENDAR