BEGIN:VCALENDAR
VERSION:2.0
PRODID:-//SpacePolicyOnline.com - ECPv6.15.11//NONSGML v1.0//EN
CALSCALE:GREGORIAN
METHOD:PUBLISH
X-WR-CALNAME:SpacePolicyOnline.com
X-ORIGINAL-URL:https://spacepolicyonline.com
X-WR-CALDESC:Events for SpacePolicyOnline.com
REFRESH-INTERVAL;VALUE=DURATION:PT1H
X-Robots-Tag:noindex
X-PUBLISHED-TTL:PT1H
BEGIN:VTIMEZONE
TZID:America/New_York
BEGIN:DAYLIGHT
TZOFFSETFROM:-0500
TZOFFSETTO:-0400
TZNAME:EDT
DTSTART:20210314T070000
END:DAYLIGHT
BEGIN:STANDARD
TZOFFSETFROM:-0400
TZOFFSETTO:-0500
TZNAME:EST
DTSTART:20211107T060000
END:STANDARD
BEGIN:DAYLIGHT
TZOFFSETFROM:-0500
TZOFFSETTO:-0400
TZNAME:EDT
DTSTART:20220313T070000
END:DAYLIGHT
BEGIN:STANDARD
TZOFFSETFROM:-0400
TZOFFSETTO:-0500
TZNAME:EST
DTSTART:20221106T060000
END:STANDARD
BEGIN:DAYLIGHT
TZOFFSETFROM:-0500
TZOFFSETTO:-0400
TZNAME:EDT
DTSTART:20230312T070000
END:DAYLIGHT
BEGIN:STANDARD
TZOFFSETFROM:-0400
TZOFFSETTO:-0500
TZNAME:EST
DTSTART:20231105T060000
END:STANDARD
END:VTIMEZONE
BEGIN:VEVENT
DTSTART;TZID=America/New_York:20220105T093000
DTEND;TZID=America/New_York:20220105T230000
DTSTAMP:20260420T061448
CREATED:20220105T042809Z
LAST-MODIFIED:20220105T042928Z
UID:49571-1641375000-1641423600@spacepolicyonline.com
SUMMARY:NASA TV COVERAGE OF JWST SECONDARY MIRROR DEPLOYMENT\, Jan 5\, 2022\, 9:45 am ET
DESCRIPTION:NASA will air live coverage of another step in the deployment of the James Webb Space Telescope on January 5\, 2022 beginning at 9:45 am ET.  NASA says it will stream on NASA.gov/live. \nA media telecon is expected to follow the deployment at a time to be announced. \nTimes are subject to change. \nThe plan is to deploy JWST’s secondary mirror\, which is attached to the telescope by a tripod structure. In this photo\, the secondary mirror\, with a black cover\, is on the far left. The gold 18-segment primary mirror is on the right with the four scientific instruments encased in black at its center. The primary mirror collects infrared emissions from objects in the universe and relays them to the secondary mirror which directs them into the scientific instruments. \nA brief video showing how it will unfold is on NASA’s website.
URL:https://spacepolicyonline.com/events/nasa-tv-coverage-of-jwst-secondary-mirror-deployment-jan-5-2022-945-am-et/
END:VEVENT
END:VCALENDAR