BEGIN:VCALENDAR
VERSION:2.0
PRODID:-//SpacePolicyOnline.com - ECPv6.15.11//NONSGML v1.0//EN
CALSCALE:GREGORIAN
METHOD:PUBLISH
X-WR-CALNAME:SpacePolicyOnline.com
X-ORIGINAL-URL:https://spacepolicyonline.com
X-WR-CALDESC:Events for SpacePolicyOnline.com
REFRESH-INTERVAL;VALUE=DURATION:PT1H
X-Robots-Tag:noindex
X-PUBLISHED-TTL:PT1H
BEGIN:VTIMEZONE
TZID:America/New_York
BEGIN:DAYLIGHT
TZOFFSETFROM:-0500
TZOFFSETTO:-0400
TZNAME:EDT
DTSTART:20220313T070000
END:DAYLIGHT
BEGIN:STANDARD
TZOFFSETFROM:-0400
TZOFFSETTO:-0500
TZNAME:EST
DTSTART:20221106T060000
END:STANDARD
BEGIN:DAYLIGHT
TZOFFSETFROM:-0500
TZOFFSETTO:-0400
TZNAME:EDT
DTSTART:20230312T070000
END:DAYLIGHT
BEGIN:STANDARD
TZOFFSETFROM:-0400
TZOFFSETTO:-0500
TZNAME:EST
DTSTART:20231105T060000
END:STANDARD
BEGIN:DAYLIGHT
TZOFFSETFROM:-0500
TZOFFSETTO:-0400
TZNAME:EDT
DTSTART:20240310T070000
END:DAYLIGHT
BEGIN:STANDARD
TZOFFSETFROM:-0400
TZOFFSETTO:-0500
TZNAME:EST
DTSTART:20241103T060000
END:STANDARD
END:VTIMEZONE
BEGIN:VEVENT
DTSTART;TZID=America/New_York:20230415T103000
DTEND;TZID=America/New_York:20230415T230000
DTSTAMP:20260425T144032
CREATED:20230413T173806Z
LAST-MODIFIED:20230413T173910Z
UID:61331-1681554600-1681599600@spacepolicyonline.com
SUMMARY:NASA TV COVERAGE OF SPX-27 UNDOCKING\, Apr 15\, 2023\, Earth orbit\, 10:45 am ET
DESCRIPTION:NASA TV will provide live coverage of the undocking of SpaceX’s 27th cargo mission to the International Space Station\, SpX-27\, on Aprl 15\, 2023 begnning at 10:45 am ET.  Undocking is scheduled for 11:05 am ET. \nThe spacecraft will splash down near the coast of Florida later in the day. NASA will not provide coverage of that SpaceX splashdown\, but will post updates to the ISS blog.  It is bringing back 4\,300 pounds of supplies and scientific experiments. \nWatch on NASA TV\, NASA Live or the NASA app.
URL:https://spacepolicyonline.com/events/nasa-tv-coverage-of-spx-27-undocking-apr-15-2023-earth-orbit-1045-am-et/
END:VEVENT
END:VCALENDAR