BEGIN:VCALENDAR
VERSION:2.0
PRODID:-//SpacePolicyOnline.com - ECPv6.15.11//NONSGML v1.0//EN
CALSCALE:GREGORIAN
METHOD:PUBLISH
X-WR-CALNAME:SpacePolicyOnline.com
X-ORIGINAL-URL:https://spacepolicyonline.com
X-WR-CALDESC:Events for SpacePolicyOnline.com
REFRESH-INTERVAL;VALUE=DURATION:PT1H
X-Robots-Tag:noindex
X-PUBLISHED-TTL:PT1H
BEGIN:VTIMEZONE
TZID:America/New_York
BEGIN:DAYLIGHT
TZOFFSETFROM:-0500
TZOFFSETTO:-0400
TZNAME:EDT
DTSTART:20250309T070000
END:DAYLIGHT
BEGIN:STANDARD
TZOFFSETFROM:-0400
TZOFFSETTO:-0500
TZNAME:EST
DTSTART:20251102T060000
END:STANDARD
BEGIN:DAYLIGHT
TZOFFSETFROM:-0500
TZOFFSETTO:-0400
TZNAME:EDT
DTSTART:20260308T070000
END:DAYLIGHT
BEGIN:STANDARD
TZOFFSETFROM:-0400
TZOFFSETTO:-0500
TZNAME:EST
DTSTART:20261101T060000
END:STANDARD
BEGIN:DAYLIGHT
TZOFFSETFROM:-0500
TZOFFSETTO:-0400
TZNAME:EDT
DTSTART:20270314T070000
END:DAYLIGHT
BEGIN:STANDARD
TZOFFSETFROM:-0400
TZOFFSETTO:-0500
TZNAME:EST
DTSTART:20271107T060000
END:STANDARD
END:VTIMEZONE
BEGIN:VEVENT
DTSTART;TZID=America/New_York:20260421T160000
DTEND;TZID=America/New_York:20260421T230000
DTSTAMP:20260422T112129
CREATED:20260328T015303Z
LAST-MODIFIED:20260421T195712Z
UID:87711-1776787200-1776812400@spacepolicyonline.com
SUMMARY:NASA UNVEILS NANCY GRACE ROMAN SPACE TELESCOPE\, Apr 21\, 2026\, Greenbelt\, MD\, 4:15 pm ET
DESCRIPTION:Update\, April 21\, 3:55 pm ET:  NASA’s YouTube livestream says it will begin at 4:15 pm ET instead of 4:00 pm ET. \nOriginal Entry: NASA will unveil the Nancy Grace Roman Space Telescope at Goddard Space Flight Center in Greenbelt\, MD on April 21\, 2026. The telescope is being built there. \nOriginally called the Wide-Field Infrared Space Telescope or WFIRST\, it was later named in honor of NASA’s first chief astronomer\, Nancy Grace Roman.  The launch date has not been announced yet\, but is expected later in 2026.  NASA proudly points out that it is under budget and ahead of schedule. \nA news conference will take place at 4:00 pm ET that will air on NASA’s YouTube channel. \nParticipants are: \n\nNASA Administrator Jared Isaacman\nNicky Fox\, associate administrator\, Science Mission Directorate\, NASA Headquarters\, Washington\nJamie Dunn\, Roman telescope project manager\, NASA Goddard\nJulie McEnery\, Roman telescope senior project scientist\, NASA Goddard
URL:https://spacepolicyonline.com/events/nasa-unveils-nancy-grace-roman-space-telescope-apr-21-2026-greenbelt-md-400-pm-et/
END:VEVENT
END:VCALENDAR