BEGIN:VCALENDAR
VERSION:2.0
PRODID:-//SpacePolicyOnline.com - ECPv6.15.11//NONSGML v1.0//EN
CALSCALE:GREGORIAN
METHOD:PUBLISH
X-WR-CALNAME:SpacePolicyOnline.com
X-ORIGINAL-URL:https://spacepolicyonline.com
X-WR-CALDESC:Events for SpacePolicyOnline.com
REFRESH-INTERVAL;VALUE=DURATION:PT1H
X-Robots-Tag:noindex
X-PUBLISHED-TTL:PT1H
BEGIN:VTIMEZONE
TZID:America/New_York
BEGIN:DAYLIGHT
TZOFFSETFROM:-0500
TZOFFSETTO:-0400
TZNAME:EDT
DTSTART:20200308T070000
END:DAYLIGHT
BEGIN:STANDARD
TZOFFSETFROM:-0400
TZOFFSETTO:-0500
TZNAME:EST
DTSTART:20201101T060000
END:STANDARD
BEGIN:DAYLIGHT
TZOFFSETFROM:-0500
TZOFFSETTO:-0400
TZNAME:EDT
DTSTART:20210314T070000
END:DAYLIGHT
BEGIN:STANDARD
TZOFFSETFROM:-0400
TZOFFSETTO:-0500
TZNAME:EST
DTSTART:20211107T060000
END:STANDARD
BEGIN:DAYLIGHT
TZOFFSETFROM:-0500
TZOFFSETTO:-0400
TZNAME:EDT
DTSTART:20220313T070000
END:DAYLIGHT
BEGIN:STANDARD
TZOFFSETFROM:-0400
TZOFFSETTO:-0500
TZNAME:EST
DTSTART:20221106T060000
END:STANDARD
END:VTIMEZONE
BEGIN:VEVENT
DTSTART;TZID=America/New_York:20210305T153000
DTEND;TZID=America/New_York:20210305T230000
DTSTAMP:20260419T231230
CREATED:20210303T222120Z
LAST-MODIFIED:20210303T222120Z
UID:42081-1614958200-1614985200@spacepolicyonline.com
SUMMARY:NASA UPDATE ON MARS PERSEVERANCE 'FIRSTS"\, Mar 5\, 2021\, virtual\, 3:30 pm ET
DESCRIPTION:NASA will hold a media teleconference on March 5\, 2021 at 3:30 pm ET from the Jet Propulsion Lab in Pasadena\, CA to discuss the “firsts” achieved so far with the Mars Perseverance rover. \nThe teleconference will air on JPL’s YouTube channel. \nParticipants are: \n\nRobert Hogg\, Perseverance deputy mission manager\, JPL\nAnais Zarifian\, Perseverance mobility test bed engineer\, JPL\nKatie Stack Morgan\, Perseverance deputy project scientist\, JPL
URL:https://spacepolicyonline.com/events/nasa-update-on-mars-perseverance-firsts-mar-5-2021-virtual-330-pm-et/
END:VEVENT
END:VCALENDAR