BEGIN:VCALENDAR
VERSION:2.0
PRODID:-//SpacePolicyOnline.com - ECPv6.15.11//NONSGML v1.0//EN
CALSCALE:GREGORIAN
METHOD:PUBLISH
X-WR-CALNAME:SpacePolicyOnline.com
X-ORIGINAL-URL:https://spacepolicyonline.com
X-WR-CALDESC:Events for SpacePolicyOnline.com
REFRESH-INTERVAL;VALUE=DURATION:PT1H
X-Robots-Tag:noindex
X-PUBLISHED-TTL:PT1H
BEGIN:VTIMEZONE
TZID:America/New_York
BEGIN:DAYLIGHT
TZOFFSETFROM:-0500
TZOFFSETTO:-0400
TZNAME:EDT
DTSTART:20240310T070000
END:DAYLIGHT
BEGIN:STANDARD
TZOFFSETFROM:-0400
TZOFFSETTO:-0500
TZNAME:EST
DTSTART:20241103T060000
END:STANDARD
BEGIN:DAYLIGHT
TZOFFSETFROM:-0500
TZOFFSETTO:-0400
TZNAME:EDT
DTSTART:20250309T070000
END:DAYLIGHT
BEGIN:STANDARD
TZOFFSETFROM:-0400
TZOFFSETTO:-0500
TZNAME:EST
DTSTART:20251102T060000
END:STANDARD
BEGIN:DAYLIGHT
TZOFFSETFROM:-0500
TZOFFSETTO:-0400
TZNAME:EDT
DTSTART:20260308T070000
END:DAYLIGHT
BEGIN:STANDARD
TZOFFSETFROM:-0400
TZOFFSETTO:-0500
TZNAME:EST
DTSTART:20261101T060000
END:STANDARD
END:VTIMEZONE
BEGIN:VEVENT
DTSTART;TZID=America/New_York:20250107T130000
DTEND;TZID=America/New_York:20250107T230000
DTSTAMP:20260420T085658
CREATED:20250103T223243Z
LAST-MODIFIED:20250103T223243Z
UID:77011-1736254800-1736290800@spacepolicyonline.com
SUMMARY:NASA UPDATE ON MARS SAMPLE RETURN PROGRAM\, Jan 7\, 2025\, virtual\, 1:00 pm ET
DESCRIPTION:NASA Administrator Bill Nelson and Science Mission Directorate Associate Administrator Nicky Fox will hold a media telecon on January 7\, 2025 at 1:00 pm ET to provide an update on the Mars Sample Return program. \nAn independent group has been evaluating options on how to achieve MSR’s goal of returning the samples currently being collected by the Mars Perseverance rover to Earth more affordably and sooner than the existing plan. \nAudio of the media telecon will be livestreamed on NASA Live.
URL:https://spacepolicyonline.com/events/nasa-update-on-mars-sample-return-program-jan-7-2025-virtual-100-pm-et/
END:VEVENT
END:VCALENDAR