BEGIN:VCALENDAR
VERSION:2.0
PRODID:-//SpacePolicyOnline.com - ECPv6.15.11//NONSGML v1.0//EN
CALSCALE:GREGORIAN
METHOD:PUBLISH
X-WR-CALNAME:SpacePolicyOnline.com
X-ORIGINAL-URL:https://spacepolicyonline.com
X-WR-CALDESC:Events for SpacePolicyOnline.com
REFRESH-INTERVAL;VALUE=DURATION:PT1H
X-Robots-Tag:noindex
X-PUBLISHED-TTL:PT1H
BEGIN:VTIMEZONE
TZID:America/New_York
BEGIN:DAYLIGHT
TZOFFSETFROM:-0500
TZOFFSETTO:-0400
TZNAME:EDT
DTSTART:20180311T070000
END:DAYLIGHT
BEGIN:STANDARD
TZOFFSETFROM:-0400
TZOFFSETTO:-0500
TZNAME:EST
DTSTART:20181104T060000
END:STANDARD
BEGIN:DAYLIGHT
TZOFFSETFROM:-0500
TZOFFSETTO:-0400
TZNAME:EDT
DTSTART:20190310T070000
END:DAYLIGHT
BEGIN:STANDARD
TZOFFSETFROM:-0400
TZOFFSETTO:-0500
TZNAME:EST
DTSTART:20191103T060000
END:STANDARD
BEGIN:DAYLIGHT
TZOFFSETFROM:-0500
TZOFFSETTO:-0400
TZNAME:EDT
DTSTART:20200308T070000
END:DAYLIGHT
BEGIN:STANDARD
TZOFFSETFROM:-0400
TZOFFSETTO:-0500
TZNAME:EST
DTSTART:20201101T060000
END:STANDARD
END:VTIMEZONE
BEGIN:VEVENT
DTSTART;TZID=America/New_York:20191011T100000
DTEND;TZID=America/New_York:20191011T230000
DTSTAMP:20260420T042700
CREATED:20190925T202025Z
LAST-MODIFIED:20190925T202025Z
UID:29219-1570788000-1570834800@spacepolicyonline.com
SUMMARY:NASA'S DRAGONFLY MISSION TO TITAN (SPACE ADVOCATES)\, Oct 11\, 2019\, DC\, 10:00 am ET
DESCRIPTION:Space Advocates\, a non-partisan group on Capitol Hill\, will sponsor a briefing on NASA’s recently selected Dragonfly mission to Titan\, which is led by the Johns Hopkins University Applied Physics Lab (JHU-APL) in Laurel\, MD. \nThe briefing is on October 11\, 2019 in 2325 Rayburn House Office Building at 10:00 am ET. \nRSVP to John Shelton in Rep. Bill Posey’s office (john.shelton@mail.house.gov). \nSpeakers are: \n\nShannon MacKenzie\, planetary scientist\, JHU-APL\nKenneth Hibbard\, principal systems engineer\, technology and project manager\, JHU-APL.
URL:https://spacepolicyonline.com/events/nasas-dragonfly-mission-to-titan-space-advocates-oct-11-2019-dc-1000-am-et/
END:VEVENT
END:VCALENDAR