BEGIN:VCALENDAR
VERSION:2.0
PRODID:-//SpacePolicyOnline.com - ECPv6.15.11//NONSGML v1.0//EN
CALSCALE:GREGORIAN
METHOD:PUBLISH
X-WR-CALNAME:SpacePolicyOnline.com
X-ORIGINAL-URL:https://spacepolicyonline.com
X-WR-CALDESC:Events for SpacePolicyOnline.com
REFRESH-INTERVAL;VALUE=DURATION:PT1H
X-Robots-Tag:noindex
X-PUBLISHED-TTL:PT1H
BEGIN:VTIMEZONE
TZID:America/New_York
BEGIN:DAYLIGHT
TZOFFSETFROM:-0500
TZOFFSETTO:-0400
TZNAME:EDT
DTSTART:20210314T070000
END:DAYLIGHT
BEGIN:STANDARD
TZOFFSETFROM:-0400
TZOFFSETTO:-0500
TZNAME:EST
DTSTART:20211107T060000
END:STANDARD
BEGIN:DAYLIGHT
TZOFFSETFROM:-0500
TZOFFSETTO:-0400
TZNAME:EDT
DTSTART:20220313T070000
END:DAYLIGHT
BEGIN:STANDARD
TZOFFSETFROM:-0400
TZOFFSETTO:-0500
TZNAME:EST
DTSTART:20221106T060000
END:STANDARD
BEGIN:DAYLIGHT
TZOFFSETFROM:-0500
TZOFFSETTO:-0400
TZNAME:EDT
DTSTART:20230312T070000
END:DAYLIGHT
BEGIN:STANDARD
TZOFFSETFROM:-0400
TZOFFSETTO:-0500
TZNAME:EST
DTSTART:20231105T060000
END:STANDARD
END:VTIMEZONE
BEGIN:VEVENT
DTSTART;TZID=America/New_York:20221101T070000
DTEND;TZID=America/New_York:20221102T230000
DTSTAMP:20260424T133942
CREATED:20221030T213145Z
LAST-MODIFIED:20221030T214313Z
UID:57384-1667286000-1667430000@spacepolicyonline.com
SUMMARY:NATIONAL SECURITY CYBER\, LAND\, AIR\, SEA AND SPACE (C.L.A.S.S.) SUMMIT\, Nov 1-2\, 2022\, virtual
DESCRIPTION:The 2022 C.L.A.S.S. (Cyber\, Land\, Air\, Sea and Space) Summit will take place virtually from November 1-2\, 2022. \nThe agenda (in CENTRAL Time) is posted on the event’s website. The Zoom link to watch the meeting is at the bottom of that webpage. \nAn emailed announcement says the event features “dignitaries from the U.S. Armed Forces and pioneers in the private and commercial sectors who have dedicated themselves to the final frontier: Space.”
URL:https://spacepolicyonline.com/events/national-security-c-l-a-s-s-summit-nov-1-2-2022-virtual/
END:VEVENT
END:VCALENDAR