BEGIN:VCALENDAR
VERSION:2.0
PRODID:-//SpacePolicyOnline.com - ECPv6.15.11//NONSGML v1.0//EN
CALSCALE:GREGORIAN
METHOD:PUBLISH
X-WR-CALNAME:SpacePolicyOnline.com
X-ORIGINAL-URL:https://spacepolicyonline.com
X-WR-CALDESC:Events for SpacePolicyOnline.com
REFRESH-INTERVAL;VALUE=DURATION:PT1H
X-Robots-Tag:noindex
X-PUBLISHED-TTL:PT1H
BEGIN:VTIMEZONE
TZID:America/New_York
BEGIN:DAYLIGHT
TZOFFSETFROM:-0500
TZOFFSETTO:-0400
TZNAME:EDT
DTSTART:20200308T070000
END:DAYLIGHT
BEGIN:STANDARD
TZOFFSETFROM:-0400
TZOFFSETTO:-0500
TZNAME:EST
DTSTART:20201101T060000
END:STANDARD
BEGIN:DAYLIGHT
TZOFFSETFROM:-0500
TZOFFSETTO:-0400
TZNAME:EDT
DTSTART:20210314T070000
END:DAYLIGHT
BEGIN:STANDARD
TZOFFSETFROM:-0400
TZOFFSETTO:-0500
TZNAME:EST
DTSTART:20211107T060000
END:STANDARD
BEGIN:DAYLIGHT
TZOFFSETFROM:-0500
TZOFFSETTO:-0400
TZNAME:EDT
DTSTART:20220313T070000
END:DAYLIGHT
BEGIN:STANDARD
TZOFFSETFROM:-0400
TZOFFSETTO:-0500
TZNAME:EST
DTSTART:20221106T060000
END:STANDARD
END:VTIMEZONE
BEGIN:VEVENT
DTSTART;TZID=America/New_York:20211209T070000
DTEND;TZID=America/New_York:20211210T230000
DTSTAMP:20260420T103418
CREATED:20211119T173344Z
LAST-MODIFIED:20211119T173344Z
UID:48476-1639033200-1639177200@spacepolicyonline.com
SUMMARY:NATIONAL SPACE-BASED PNT ADVISORY BOARD\, Dec 9-10\, 2021\, Arlington\, VA\, 8:30 am ET
DESCRIPTION:The National Space-Based Positioning\, Navigation\, and Timing Advisory Board will meet December 9-10\, 2021 at the Sheraton Pentagon City Hotel in Arlington\, VA.  The meeting starts at 8:30 am ET each day. \nMore information is in the Federal Register notice\, which is reproduced below. \nSUMMARY: In accordance with the Federal Advisory Committee Act\, as \namended\, the National Aeronautics and Space Administration (NASA) \nannounces a meeting of the National Space-Based Positioning\, Navigation \nand Timing (PNT) Advisory Board. This will be the 25th meeting of the \nPNT Advisory Board.\n\nDATES: Thursday\, December 9\, 2021\, from 8:30 a.m.-6:00 p.m.\, Eastern \nTime; and Friday\, December 10\, 2021\, from 8:30 a.m.-12:00 p.m.\, Eastern \nTime.\n\nADDRESSES: Sheraton Pentagon City Hotel\, Galaxy Ballroom\, 900 South \nOrme Street\, Arlington\, Virginia 22204.\n\nFOR FURTHER INFORMATION CONTACT: Mr. James Joseph Miller\, Designated \nFederal Officer\, PNT Advisory Board\, Space Operations Mission \nDirectorate\, NASA Headquarters\, Washington\, DC 20546\, (202) 262-0929 or \njj.miller@nasa.gov.\n\nSUPPLEMENTARY INFORMATION: This meeting will be open to the public up \nto the capacity of the meeting room. In-person attendees will be \nrequested to sign a register prior to entrance to the proceedings. \nWebcast details to watch the meeting remotely will be available on the \nPNT Advisory Board website at: www.gps.gov/governance/advisory/.\n    The agenda for the meeting will include the following:\n\n--Opening Remarks and Meeting Objectives by PNT Advisory Board Chair\n--Reports and Updates from PNT Advisory Board Working Groups\n--Preliminary Deliberations on any Findings and Recommendations\n--Other PNT Advisory Board Business and Work Plan Schedule\n\n    For further information\, visit the PNT Advisory Board website at: \nhttps://www.gps.gov/governance/advisory/.\n    It is imperative that the meeting be held on these dates to meet \nthe scheduling availability of key participants.
URL:https://spacepolicyonline.com/events/national-space-based-pnt-advisory-board-dec-9-10-2021-arlington-va-830-am-et/
END:VEVENT
END:VCALENDAR