BEGIN:VCALENDAR
VERSION:2.0
PRODID:-//SpacePolicyOnline.com - ECPv6.15.11//NONSGML v1.0//EN
CALSCALE:GREGORIAN
METHOD:PUBLISH
X-WR-CALNAME:SpacePolicyOnline.com
X-ORIGINAL-URL:https://spacepolicyonline.com
X-WR-CALDESC:Events for SpacePolicyOnline.com
REFRESH-INTERVAL;VALUE=DURATION:PT1H
X-Robots-Tag:noindex
X-PUBLISHED-TTL:PT1H
BEGIN:VTIMEZONE
TZID:America/New_York
BEGIN:DAYLIGHT
TZOFFSETFROM:-0500
TZOFFSETTO:-0400
TZNAME:EDT
DTSTART:20210314T070000
END:DAYLIGHT
BEGIN:STANDARD
TZOFFSETFROM:-0400
TZOFFSETTO:-0500
TZNAME:EST
DTSTART:20211107T060000
END:STANDARD
BEGIN:DAYLIGHT
TZOFFSETFROM:-0500
TZOFFSETTO:-0400
TZNAME:EDT
DTSTART:20220313T070000
END:DAYLIGHT
BEGIN:STANDARD
TZOFFSETFROM:-0400
TZOFFSETTO:-0500
TZNAME:EST
DTSTART:20221106T060000
END:STANDARD
BEGIN:DAYLIGHT
TZOFFSETFROM:-0500
TZOFFSETTO:-0400
TZNAME:EDT
DTSTART:20230312T070000
END:DAYLIGHT
BEGIN:STANDARD
TZOFFSETFROM:-0400
TZOFFSETTO:-0500
TZNAME:EST
DTSTART:20231105T060000
END:STANDARD
END:VTIMEZONE
BEGIN:VEVENT
DTSTART;TZID=America/New_York:20220203T130000
DTEND;TZID=America/New_York:20220203T230000
DTSTAMP:20260420T024731
CREATED:20220130T163427Z
LAST-MODIFIED:20220130T163427Z
UID:50117-1643893200-1643929200@spacepolicyonline.com
SUMMARY:Natl Acad CAPS MEETING ON BIOSIGNATURE STANDARDS OF EVIDENCE WHITE PAPER\, Feb 3\, 2022\, virtual\, 1:00-4:15 pm ET
DESCRIPTION:The Committee on Astrobiology and Planetary Sciences (CAPS) of the National Academies of Sciences\, Engineering\, and Medicine will hold its third virtual meeting to discuss the Biosignature Standards of Evidence White Paper on February 3-4\, 2022. \nOpen sessions of the meeting are on February 3 from 1:00-4:15 pm and will be livestreamed. The link was not on the agenda posted as of January 30\, but it says it will be provided later.  Check the committee’s website for up to date information.
URL:https://spacepolicyonline.com/events/natl-acad-caps-meeting-on-biosignature-standards-of-evidence-white-paper-feb-3-2022-virtual-100-415-pm-et/
END:VEVENT
END:VCALENDAR