BEGIN:VCALENDAR
VERSION:2.0
PRODID:-//SpacePolicyOnline.com - ECPv6.15.11//NONSGML v1.0//EN
CALSCALE:GREGORIAN
METHOD:PUBLISH
X-WR-CALNAME:SpacePolicyOnline.com
X-ORIGINAL-URL:https://spacepolicyonline.com
X-WR-CALDESC:Events for SpacePolicyOnline.com
REFRESH-INTERVAL;VALUE=DURATION:PT1H
X-Robots-Tag:noindex
X-PUBLISHED-TTL:PT1H
BEGIN:VTIMEZONE
TZID:America/New_York
BEGIN:DAYLIGHT
TZOFFSETFROM:-0500
TZOFFSETTO:-0400
TZNAME:EDT
DTSTART:20180311T070000
END:DAYLIGHT
BEGIN:STANDARD
TZOFFSETFROM:-0400
TZOFFSETTO:-0500
TZNAME:EST
DTSTART:20181104T060000
END:STANDARD
BEGIN:DAYLIGHT
TZOFFSETFROM:-0500
TZOFFSETTO:-0400
TZNAME:EDT
DTSTART:20190310T070000
END:DAYLIGHT
BEGIN:STANDARD
TZOFFSETFROM:-0400
TZOFFSETTO:-0500
TZNAME:EST
DTSTART:20191103T060000
END:STANDARD
BEGIN:DAYLIGHT
TZOFFSETFROM:-0500
TZOFFSETTO:-0400
TZNAME:EDT
DTSTART:20200308T070000
END:DAYLIGHT
BEGIN:STANDARD
TZOFFSETFROM:-0400
TZOFFSETTO:-0500
TZNAME:EST
DTSTART:20201101T060000
END:STANDARD
END:VTIMEZONE
BEGIN:VEVENT
DTSTART;TZID=America/New_York:20190910T080000
DTEND;TZID=America/New_York:20190912T230000
DTSTAMP:20260420T112902
CREATED:20190729T205334Z
LAST-MODIFIED:20190908T171222Z
UID:27980-1568102400-1568329200@spacepolicyonline.com
SUMMARY:Natl Acad COMMITTEE ON ASTROBIOLOGY AND PLANETARY SCIENCE (CAPS)\, Sept 10-12\, 2019\, Irvine\, CA (available remotely)
DESCRIPTION:The National Academies’ Committee on Astrobiology and Planetary Science (CAPS)\, a standing committee of the Space Studies Board\, will meet at the Beckman Center in Irvine\, CA from September 10-12\, 2019. \nMore information is posted on the committee’s website.  Many sessions on September 10 and 11 are open\, while others are closed.  Open sessions will be available remotely via Zoom.  Instructions are on the agenda (posted on the committee’s website; note that all times are in Pacific Daylight Time).  September 12 is closed all day.
URL:https://spacepolicyonline.com/events/natl-acad-committee-on-astrobiology-and-planetary-science-caps-sept-11-12-2019-irvine-ca/
END:VEVENT
END:VCALENDAR