BEGIN:VCALENDAR
VERSION:2.0
PRODID:-//SpacePolicyOnline.com - ECPv6.15.11//NONSGML v1.0//EN
CALSCALE:GREGORIAN
METHOD:PUBLISH
X-WR-CALNAME:SpacePolicyOnline.com
X-ORIGINAL-URL:https://spacepolicyonline.com
X-WR-CALDESC:Events for SpacePolicyOnline.com
REFRESH-INTERVAL;VALUE=DURATION:PT1H
X-Robots-Tag:noindex
X-PUBLISHED-TTL:PT1H
BEGIN:VTIMEZONE
TZID:America/New_York
BEGIN:DAYLIGHT
TZOFFSETFROM:-0500
TZOFFSETTO:-0400
TZNAME:EDT
DTSTART:20190310T070000
END:DAYLIGHT
BEGIN:STANDARD
TZOFFSETFROM:-0400
TZOFFSETTO:-0500
TZNAME:EST
DTSTART:20191103T060000
END:STANDARD
BEGIN:DAYLIGHT
TZOFFSETFROM:-0500
TZOFFSETTO:-0400
TZNAME:EDT
DTSTART:20200308T070000
END:DAYLIGHT
BEGIN:STANDARD
TZOFFSETFROM:-0400
TZOFFSETTO:-0500
TZNAME:EST
DTSTART:20201101T060000
END:STANDARD
BEGIN:DAYLIGHT
TZOFFSETFROM:-0500
TZOFFSETTO:-0400
TZNAME:EDT
DTSTART:20210314T070000
END:DAYLIGHT
BEGIN:STANDARD
TZOFFSETFROM:-0400
TZOFFSETTO:-0500
TZNAME:EST
DTSTART:20211107T060000
END:STANDARD
END:VTIMEZONE
BEGIN:VEVENT
DTSTART;TZID=America/New_York:20200930T120000
DTEND;TZID=America/New_York:20200930T230000
DTSTAMP:20260419T131118
CREATED:20200720T220420Z
LAST-MODIFIED:20200926T184812Z
UID:36389-1601467200-1601506800@spacepolicyonline.com
SUMMARY:Natl Acad SPACE TECHNOLOGY INDUSTRY\, GOVERNMENT\, UNIVERSITY ROUNDTABLE (STIGUR)\, Sept 30\, 2020\, virtual\, 12:00-4:00 pm ET
DESCRIPTION:The Space Technology Industry\, Government\, University Roundtable (STIGUR) of the Aeronautics and Space Engineering Board (ASEB) of the National Academies of Sciences\, Engineering and Medicine will meet virtually on September 30\, 2020 from 12:00-4:00 pm ET. \nThe meeting will be livestreamed at: https://livestream.com/nasem/events/9319302 \nMore information is on the ASEB website. \nAs of September 26\, the agenda is as follows: \nAGENDA \n12:00 pm Eastern\nWelcome\nWanda Sigur\, STIGUR Chair \n12:05 pm Eastern\nCurrent STMD priorities\nJim Reuter\, STMD AA \n12:30 pm Eastern\nOverview of STMD Technology Roadmaps and Future Plans (40 min presentation\, 40 min discussion)\nWalt Engelund\, Deputy Associate Administrator for Programs\, STMD and\nMark McDonald\, STMD Chief Architect \n1:50 pm Eastern\nBreak \n2:20 pm Eastern\nNASA STMD Space Nuclear Technologies Portfolio (Surface Power and Space Propulsion)\nDr. Anthony Calomino\, STMD Nuclear Technologies Portfolio Manager \n3:50 pm Eastern\nClosing remarks and suggestions for next meeting\nWanda Sigur\, Chair \n4:00pm Eastern\nAdjourn
URL:https://spacepolicyonline.com/events/natl-acad-space-technology-industry-government-university-roundtable-stigur-sept-30-2020-virtual-1200-400-pm-et/
END:VEVENT
END:VCALENDAR