BEGIN:VCALENDAR
VERSION:2.0
PRODID:-//SpacePolicyOnline.com - ECPv6.15.11//NONSGML v1.0//EN
CALSCALE:GREGORIAN
METHOD:PUBLISH
X-WR-CALNAME:SpacePolicyOnline.com
X-ORIGINAL-URL:https://spacepolicyonline.com
X-WR-CALDESC:Events for SpacePolicyOnline.com
REFRESH-INTERVAL;VALUE=DURATION:PT1H
X-Robots-Tag:noindex
X-PUBLISHED-TTL:PT1H
BEGIN:VTIMEZONE
TZID:America/New_York
BEGIN:DAYLIGHT
TZOFFSETFROM:-0500
TZOFFSETTO:-0400
TZNAME:EDT
DTSTART:20170312T070000
END:DAYLIGHT
BEGIN:STANDARD
TZOFFSETFROM:-0400
TZOFFSETTO:-0500
TZNAME:EST
DTSTART:20171105T060000
END:STANDARD
BEGIN:DAYLIGHT
TZOFFSETFROM:-0500
TZOFFSETTO:-0400
TZNAME:EDT
DTSTART:20180311T070000
END:DAYLIGHT
BEGIN:STANDARD
TZOFFSETFROM:-0400
TZOFFSETTO:-0500
TZNAME:EST
DTSTART:20181104T060000
END:STANDARD
BEGIN:DAYLIGHT
TZOFFSETFROM:-0500
TZOFFSETTO:-0400
TZNAME:EDT
DTSTART:20190310T070000
END:DAYLIGHT
BEGIN:STANDARD
TZOFFSETFROM:-0400
TZOFFSETTO:-0500
TZNAME:EST
DTSTART:20191103T060000
END:STANDARD
END:VTIMEZONE
BEGIN:VEVENT
DTSTART;TZID=America/New_York:20180518T080000
DTEND;TZID=America/New_York:20180518T170000
DTSTAMP:20260421T070158
CREATED:20180512T124355Z
LAST-MODIFIED:20180512T124355Z
UID:17809-1526630400-1526662800@spacepolicyonline.com
SUMMARY:NDU CHINA AEROSPACE STUDIES INSTITUTE (CASI) 2018 CONFERENCE\, May 18\, 2018\, DC\, 8:00-5:00 ET
DESCRIPTION:The China Aerospace Studies Institute (CASI) at the National Defense University will hold the CASI 2018 conference on May 18\, 2018 from 8:00 am – 5:00 pm ET at Ft. McNair in Washington\, D.C. \nThe meeting is closed to the press/media and will take place under the Chatham House Rule. \nRegistration instructions\, the agency and other information is on the event’s website.  One session in the afternoon is about China’s space program and advanced technology as follows: \n13:30-15:00 Panel Three: PLA Space and Advanced Tech \n1) PLA Unmanned Aerial Systems- Elsa Kania (CNAS) \n2) New trends in China’s Space Program- \nKevin Pollpeter and Brian Waidelich (CNA) \n3) China’s views of Deterrence in Space- Dean Cheng (Heritage\, CASI Associate) \nModerator: Mark Stokes (Project 2049\, CASI Associate)
URL:https://spacepolicyonline.com/events/ndu-china-aerospace-studies-institute-casi-2018-conference-may-18-2018-dc-800-500-et/
END:VEVENT
END:VCALENDAR