BEGIN:VCALENDAR
VERSION:2.0
PRODID:-//SpacePolicyOnline.com - ECPv6.15.11//NONSGML v1.0//EN
CALSCALE:GREGORIAN
METHOD:PUBLISH
X-WR-CALNAME:SpacePolicyOnline.com
X-ORIGINAL-URL:https://spacepolicyonline.com
X-WR-CALDESC:Events for SpacePolicyOnline.com
REFRESH-INTERVAL;VALUE=DURATION:PT1H
X-Robots-Tag:noindex
X-PUBLISHED-TTL:PT1H
BEGIN:VTIMEZONE
TZID:America/New_York
BEGIN:DAYLIGHT
TZOFFSETFROM:-0500
TZOFFSETTO:-0400
TZNAME:EDT
DTSTART:20250309T070000
END:DAYLIGHT
BEGIN:STANDARD
TZOFFSETFROM:-0400
TZOFFSETTO:-0500
TZNAME:EST
DTSTART:20251102T060000
END:STANDARD
BEGIN:DAYLIGHT
TZOFFSETFROM:-0500
TZOFFSETTO:-0400
TZNAME:EDT
DTSTART:20260308T070000
END:DAYLIGHT
BEGIN:STANDARD
TZOFFSETFROM:-0400
TZOFFSETTO:-0500
TZNAME:EST
DTSTART:20261101T060000
END:STANDARD
BEGIN:DAYLIGHT
TZOFFSETFROM:-0500
TZOFFSETTO:-0400
TZNAME:EDT
DTSTART:20270314T070000
END:DAYLIGHT
BEGIN:STANDARD
TZOFFSETFROM:-0400
TZOFFSETTO:-0500
TZNAME:EST
DTSTART:20271107T060000
END:STANDARD
END:VTIMEZONE
BEGIN:VEVENT
DTSTART;TZID=America/New_York:20260429T134500
DTEND;TZID=America/New_York:20260429T230000
DTSTAMP:20260423T021333
CREATED:20260423T011213Z
LAST-MODIFIED:20260423T011213Z
UID:88514-1777470300-1777503600@spacepolicyonline.com
SUMMARY:NEWS CONF WITH NASA ASTRONAUT ANIL MENON\, Apr 29\, 2026\, JSC\, 1:45 pm ET
DESCRIPTION:NASA will hold a news conference with astronaut Anil Menon on April 29\, 2026 at Johnson Space Center\, TX at 1:45 pm ET. \nMenon is getting ready to launch to the International Space Station on an 8-month mission with two Russian colleagues\, Pyotr Dubrov and Anna Kikina\, on Soyuz MS-29 on July 14. \nThe news conference will air on NASA’s YouTube channel.  More information is in NASA’s press release. \nThis will be his first spaceflight. Menon is married to Anna Menon\, who was a SpaceX employee when she flew on the Polaris Dawn mission with Jared Isaacman in 2024. She later was selected into the NASA astronaut corps.  Isaacman is now NASA Administrator. \n 
URL:https://spacepolicyonline.com/events/news-conf-with-nasa-astronaut-anil-menon-apr-29-2026-jsc-145-pm-et/
END:VEVENT
END:VCALENDAR