BEGIN:VCALENDAR
VERSION:2.0
PRODID:-//SpacePolicyOnline.com - ECPv6.15.11//NONSGML v1.0//EN
CALSCALE:GREGORIAN
METHOD:PUBLISH
X-WR-CALNAME:SpacePolicyOnline.com
X-ORIGINAL-URL:https://spacepolicyonline.com
X-WR-CALDESC:Events for SpacePolicyOnline.com
REFRESH-INTERVAL;VALUE=DURATION:PT1H
X-Robots-Tag:noindex
X-PUBLISHED-TTL:PT1H
BEGIN:VTIMEZONE
TZID:America/New_York
BEGIN:DAYLIGHT
TZOFFSETFROM:-0500
TZOFFSETTO:-0400
TZNAME:EDT
DTSTART:20200308T070000
END:DAYLIGHT
BEGIN:STANDARD
TZOFFSETFROM:-0400
TZOFFSETTO:-0500
TZNAME:EST
DTSTART:20201101T060000
END:STANDARD
BEGIN:DAYLIGHT
TZOFFSETFROM:-0500
TZOFFSETTO:-0400
TZNAME:EDT
DTSTART:20210314T070000
END:DAYLIGHT
BEGIN:STANDARD
TZOFFSETFROM:-0400
TZOFFSETTO:-0500
TZNAME:EST
DTSTART:20211107T060000
END:STANDARD
BEGIN:DAYLIGHT
TZOFFSETFROM:-0500
TZOFFSETTO:-0400
TZNAME:EDT
DTSTART:20220313T070000
END:DAYLIGHT
BEGIN:STANDARD
TZOFFSETFROM:-0400
TZOFFSETTO:-0500
TZNAME:EST
DTSTART:20221106T060000
END:STANDARD
END:VTIMEZONE
BEGIN:VEVENT
DTSTART;TZID=America/New_York:20211103T070000
DTEND;TZID=America/New_York:20211104T230000
DTSTAMP:20260420T171523
CREATED:20211020T205943Z
LAST-MODIFIED:20211031T172028Z
UID:47568-1635922800-1636066800@spacepolicyonline.com
SUMMARY:NOAA ADVISORY CMTE ON COMMERCIAL REMOTE SENSING (ACCRES)\, Nov 3-4\, 2021\, hybrid\, 11:00 am-3:00 pm ET
DESCRIPTION:NOAA’s Advisory Committee on Commercial Remote Sensing (ACCRES) will meet November 3-4\, 2021 from 11:00 am – 3:00 pm ET each day. \nThe committee members will meet in person\, but the meeting is open to the public virtually. \nThe agenda is posted on the committee’s website. \nMore information is in the emailed announcement\, which is reproduced below: \n\nThe National Oceanic and Atmospheric Administration would like to announce the 30th meeting of its Advisory Committee on Commercial Remote Sensing (ACCRES) on Wednesday\, November 3 and Thursday\, November 4\, 2021. Please join NOAA and the ACCRES committee for in-depth conversations on the remote sensing satellite industry. \nThe 2-day ACCRES meeting will begin at 11:00 a.m. November 3-4\, 2021 and end at 3:00 p.m. each day. In this two-day meeting\, you can expect to hear from the Head of Department\, Civil Security and Regulatory Affairs at the German Space Agency at DLR (The German Aerospace Center) \, updates on the implementation of the Licensing  of U.S. Private Remote Sensing Space Systems (15 CFR 960)\, as well as the administration’s views of the industry from the Executive Secretary of the National Space Council\, Chirag Parikh and the Department of Commerce’s Deputy Secretary\, Don Graves. While the Committee will meet face-to-face\, the meeting will be open to the public via GoToWebinar. \nIf you are interested in attending\, please register at \nhttps://attendee.gotowebinar.com/rt/4789727055944349455. \nPlease forward the registration link as needed; however\, the personalized meeting link received after registration is unique to each registrant. \nFor additional information\, please contact CRSRA@noaa.gov. We look forward to seeing all that can attend.
URL:https://spacepolicyonline.com/events/noaa-advisory-cmte-on-commercial-remote-sensing-accres-nov-3-4-2021-hybrid-1100-am-300-pm-et/
END:VEVENT
END:VCALENDAR