BEGIN:VCALENDAR
VERSION:2.0
PRODID:-//SpacePolicyOnline.com - ECPv6.15.11//NONSGML v1.0//EN
CALSCALE:GREGORIAN
METHOD:PUBLISH
X-WR-CALNAME:SpacePolicyOnline.com
X-ORIGINAL-URL:https://spacepolicyonline.com
X-WR-CALDESC:Events for SpacePolicyOnline.com
REFRESH-INTERVAL;VALUE=DURATION:PT1H
X-Robots-Tag:noindex
X-PUBLISHED-TTL:PT1H
BEGIN:VTIMEZONE
TZID:America/New_York
BEGIN:DAYLIGHT
TZOFFSETFROM:-0500
TZOFFSETTO:-0400
TZNAME:EDT
DTSTART:20160313T070000
END:DAYLIGHT
BEGIN:STANDARD
TZOFFSETFROM:-0400
TZOFFSETTO:-0500
TZNAME:EST
DTSTART:20161106T060000
END:STANDARD
BEGIN:DAYLIGHT
TZOFFSETFROM:-0500
TZOFFSETTO:-0400
TZNAME:EDT
DTSTART:20170312T070000
END:DAYLIGHT
BEGIN:STANDARD
TZOFFSETFROM:-0400
TZOFFSETTO:-0500
TZNAME:EST
DTSTART:20171105T060000
END:STANDARD
BEGIN:DAYLIGHT
TZOFFSETFROM:-0500
TZOFFSETTO:-0400
TZNAME:EDT
DTSTART:20180311T070000
END:DAYLIGHT
BEGIN:STANDARD
TZOFFSETFROM:-0400
TZOFFSETTO:-0500
TZNAME:EST
DTSTART:20181104T060000
END:STANDARD
END:VTIMEZONE
BEGIN:VEVENT
DTSTART;TZID=America/New_York:20170831T000000
DTEND;TZID=America/New_York:20170831T000000
DTSTAMP:20260421T055057
CREATED:20170727T114440Z
LAST-MODIFIED:20170813T142309Z
UID:8337-1504137600-1504137600@spacepolicyonline.com
SUMMARY:NOAA Science Adv Bd\, August 31\, 2017\, virtual\, 1:00-5:00 pm ET
DESCRIPTION:NOAA’s Science Advisory Board will meet via teleconference on August 31\, 2017 from 1:00-5:00 pm ET. The agenda will be posted on the Board’s website. The public may listen to the teleconference by going to NOAA’s offices at 1315 East West Highway\, Room 7836\, Silver Spring\, MD.
URL:https://spacepolicyonline.com/events/noaa-science-adv-bd-august-2017-virtual/
END:VEVENT
END:VCALENDAR