BEGIN:VCALENDAR
VERSION:2.0
PRODID:-//SpacePolicyOnline.com - ECPv6.15.11//NONSGML v1.0//EN
CALSCALE:GREGORIAN
METHOD:PUBLISH
X-WR-CALNAME:SpacePolicyOnline.com
X-ORIGINAL-URL:https://spacepolicyonline.com
X-WR-CALDESC:Events for SpacePolicyOnline.com
REFRESH-INTERVAL;VALUE=DURATION:PT1H
X-Robots-Tag:noindex
X-PUBLISHED-TTL:PT1H
BEGIN:VTIMEZONE
TZID:America/New_York
BEGIN:DAYLIGHT
TZOFFSETFROM:-0500
TZOFFSETTO:-0400
TZNAME:EDT
DTSTART:20240310T070000
END:DAYLIGHT
BEGIN:STANDARD
TZOFFSETFROM:-0400
TZOFFSETTO:-0500
TZNAME:EST
DTSTART:20241103T060000
END:STANDARD
BEGIN:DAYLIGHT
TZOFFSETFROM:-0500
TZOFFSETTO:-0400
TZNAME:EDT
DTSTART:20250309T070000
END:DAYLIGHT
BEGIN:STANDARD
TZOFFSETFROM:-0400
TZOFFSETTO:-0500
TZNAME:EST
DTSTART:20251102T060000
END:STANDARD
BEGIN:DAYLIGHT
TZOFFSETFROM:-0500
TZOFFSETTO:-0400
TZNAME:EDT
DTSTART:20260308T070000
END:DAYLIGHT
BEGIN:STANDARD
TZOFFSETFROM:-0400
TZOFFSETTO:-0500
TZNAME:EST
DTSTART:20261101T060000
END:STANDARD
END:VTIMEZONE
BEGIN:VEVENT
DTSTART;TZID=America/New_York:20250422T093000
DTEND;TZID=America/New_York:20250422T230000
DTSTAMP:20260419T193324
CREATED:20250322T160807Z
LAST-MODIFIED:20250322T160807Z
UID:79351-1745314200-1745362800@spacepolicyonline.com
SUMMARY:NORTHROP GRUMMAN 1Q2025 FINANCIAL RESULTS TELECON\, Apr 22\, 2025\, virtual\, 9:30 am ET
DESCRIPTION:Northrop Grumman will hold its first quarter 2025 financial results telecon on April 22\, 2025 at 9:30 am ET. \nAudio will be webcast on the company’s website.
URL:https://spacepolicyonline.com/events/northrop-grumman-1q2025-financial-results-telecon-apr-22-2025-virtual-930-am-et/
END:VEVENT
END:VCALENDAR