BEGIN:VCALENDAR
VERSION:2.0
PRODID:-//SpacePolicyOnline.com - ECPv6.15.11//NONSGML v1.0//EN
CALSCALE:GREGORIAN
METHOD:PUBLISH
X-WR-CALNAME:SpacePolicyOnline.com
X-ORIGINAL-URL:https://spacepolicyonline.com
X-WR-CALDESC:Events for SpacePolicyOnline.com
REFRESH-INTERVAL;VALUE=DURATION:PT1H
X-Robots-Tag:noindex
X-PUBLISHED-TTL:PT1H
BEGIN:VTIMEZONE
TZID:America/New_York
BEGIN:DAYLIGHT
TZOFFSETFROM:-0500
TZOFFSETTO:-0400
TZNAME:EDT
DTSTART:20210314T070000
END:DAYLIGHT
BEGIN:STANDARD
TZOFFSETFROM:-0400
TZOFFSETTO:-0500
TZNAME:EST
DTSTART:20211107T060000
END:STANDARD
BEGIN:DAYLIGHT
TZOFFSETFROM:-0500
TZOFFSETTO:-0400
TZNAME:EDT
DTSTART:20220313T070000
END:DAYLIGHT
BEGIN:STANDARD
TZOFFSETFROM:-0400
TZOFFSETTO:-0500
TZNAME:EST
DTSTART:20221106T060000
END:STANDARD
BEGIN:DAYLIGHT
TZOFFSETFROM:-0500
TZOFFSETTO:-0400
TZNAME:EDT
DTSTART:20230312T070000
END:DAYLIGHT
BEGIN:STANDARD
TZOFFSETFROM:-0400
TZOFFSETTO:-0500
TZNAME:EST
DTSTART:20231105T060000
END:STANDARD
END:VTIMEZONE
BEGIN:VEVENT
DTSTART;TZID=America/New_York:20221027T090000
DTEND;TZID=America/New_York:20221027T230000
DTSTAMP:20260424T003238
CREATED:20221002T175826Z
LAST-MODIFIED:20221002T175826Z
UID:56712-1666861200-1666911600@spacepolicyonline.com
SUMMARY:NORTHROP GRUMMAN 3Q2022 FINANCIAL RESULTS TELECON\, Oct 27\, 2022\, virtual\, 9:00 am ET
DESCRIPTION:Northrop Grumman will hold its 3Q2022 financial results telecon on October 27\, 2022 at 9:00 am ET. It will be webcast on the company’s website. \nParticipants are: \nKathy Warden\, chair\, chief executive officer and president\, and \nDave Keffer\, chief financial officer
URL:https://spacepolicyonline.com/events/northrop-grumman-3q2022-financial-results-telecon-oct-27-2022-virtual-900-am-et/
END:VEVENT
END:VCALENDAR