BEGIN:VCALENDAR
VERSION:2.0
PRODID:-//SpacePolicyOnline.com - ECPv6.15.11//NONSGML v1.0//EN
CALSCALE:GREGORIAN
METHOD:PUBLISH
X-WR-CALNAME:SpacePolicyOnline.com
X-ORIGINAL-URL:https://spacepolicyonline.com
X-WR-CALDESC:Events for SpacePolicyOnline.com
REFRESH-INTERVAL;VALUE=DURATION:PT1H
X-Robots-Tag:noindex
X-PUBLISHED-TTL:PT1H
BEGIN:VTIMEZONE
TZID:America/New_York
BEGIN:DAYLIGHT
TZOFFSETFROM:-0500
TZOFFSETTO:-0400
TZNAME:EDT
DTSTART:20230312T070000
END:DAYLIGHT
BEGIN:STANDARD
TZOFFSETFROM:-0400
TZOFFSETTO:-0500
TZNAME:EST
DTSTART:20231105T060000
END:STANDARD
BEGIN:DAYLIGHT
TZOFFSETFROM:-0500
TZOFFSETTO:-0400
TZNAME:EDT
DTSTART:20240310T070000
END:DAYLIGHT
BEGIN:STANDARD
TZOFFSETFROM:-0400
TZOFFSETTO:-0500
TZNAME:EST
DTSTART:20241103T060000
END:STANDARD
BEGIN:DAYLIGHT
TZOFFSETFROM:-0500
TZOFFSETTO:-0400
TZNAME:EDT
DTSTART:20250309T070000
END:DAYLIGHT
BEGIN:STANDARD
TZOFFSETFROM:-0400
TZOFFSETTO:-0500
TZNAME:EST
DTSTART:20251102T060000
END:STANDARD
END:VTIMEZONE
BEGIN:VEVENT
DTSTART;TZID=America/New_York:20240125T090000
DTEND;TZID=America/New_York:20240125T230000
DTSTAMP:20260419T225341
CREATED:20231224T153013Z
LAST-MODIFIED:20240125T200117Z
UID:67506-1706173200-1706223600@spacepolicyonline.com
SUMMARY:NORTHROP GRUMMAN 4Q2023 FINANCIAL RESULTS TELECON\, Jan 25\, 2024\, virtual\, 9:00 am ET
DESCRIPTION:Correction:  The telecon is on January 25 not January 24. Apologies for our error. \nOriginal Entry: Northrop Grumman will hold its 4th Quarter 2023 financial results telecon on January 24\, 2024 at 9:00 am ET. \nThe telecon will be broadcast on the company’s website. \nSpeakers are: \n\nKathy Warden\, chair\, chief executive officer and president\, and\nDave Keffer\, chief financial officer
URL:https://spacepolicyonline.com/events/northrop-grumman-4q2023-financial-results-telecon-jan-24-2024-virtual-900-am-et/
END:VEVENT
END:VCALENDAR