BEGIN:VCALENDAR
VERSION:2.0
PRODID:-//SpacePolicyOnline.com - ECPv6.15.11//NONSGML v1.0//EN
CALSCALE:GREGORIAN
METHOD:PUBLISH
X-WR-CALNAME:SpacePolicyOnline.com
X-ORIGINAL-URL:https://spacepolicyonline.com
X-WR-CALDESC:Events for SpacePolicyOnline.com
REFRESH-INTERVAL;VALUE=DURATION:PT1H
X-Robots-Tag:noindex
X-PUBLISHED-TTL:PT1H
BEGIN:VTIMEZONE
TZID:America/New_York
BEGIN:DAYLIGHT
TZOFFSETFROM:-0500
TZOFFSETTO:-0400
TZNAME:EDT
DTSTART:20200308T070000
END:DAYLIGHT
BEGIN:STANDARD
TZOFFSETFROM:-0400
TZOFFSETTO:-0500
TZNAME:EST
DTSTART:20201101T060000
END:STANDARD
BEGIN:DAYLIGHT
TZOFFSETFROM:-0500
TZOFFSETTO:-0400
TZNAME:EDT
DTSTART:20210314T070000
END:DAYLIGHT
BEGIN:STANDARD
TZOFFSETFROM:-0400
TZOFFSETTO:-0500
TZNAME:EST
DTSTART:20211107T060000
END:STANDARD
BEGIN:DAYLIGHT
TZOFFSETFROM:-0500
TZOFFSETTO:-0400
TZNAME:EDT
DTSTART:20220313T070000
END:DAYLIGHT
BEGIN:STANDARD
TZOFFSETFROM:-0400
TZOFFSETTO:-0500
TZNAME:EST
DTSTART:20221106T060000
END:STANDARD
END:VTIMEZONE
BEGIN:VEVENT
DTSTART;TZID=America/New_York:20210429T090000
DTEND;TZID=America/New_York:20210429T230000
DTSTAMP:20260420T113917
CREATED:20210325T195808Z
LAST-MODIFIED:20210325T195808Z
UID:42554-1619686800-1619737200@spacepolicyonline.com
SUMMARY:NORTHROP GRUMMAN TELECON ON 1Q2021 FINANCIAL RESULTS\, Apr 29\, 2021\, virtual\, 9:00 am ET
DESCRIPTION:Northrop Grumman will hold its quarterly investors’ telecon to discuss 1Q2021 financial results on April 29\, 2021 at 9:00 am ET.  More information is on the event’s website.  It will be audiocast. \nParticipants are: \n\nKathy Warden\, chairman\, chief executive officer and president\, and\nDave Keffer\, chief financial officer\n\n 
URL:https://spacepolicyonline.com/events/northrop-grumman-telecon-on-1q2021-financial-results-apr-29-2021-virtual-900-am-et/
END:VEVENT
END:VCALENDAR