BEGIN:VCALENDAR
VERSION:2.0
PRODID:-//SpacePolicyOnline.com - ECPv6.15.11//NONSGML v1.0//EN
CALSCALE:GREGORIAN
METHOD:PUBLISH
X-WR-CALNAME:SpacePolicyOnline.com
X-ORIGINAL-URL:https://spacepolicyonline.com
X-WR-CALDESC:Events for SpacePolicyOnline.com
REFRESH-INTERVAL;VALUE=DURATION:PT1H
X-Robots-Tag:noindex
X-PUBLISHED-TTL:PT1H
BEGIN:VTIMEZONE
TZID:America/New_York
BEGIN:DAYLIGHT
TZOFFSETFROM:-0500
TZOFFSETTO:-0400
TZNAME:EDT
DTSTART:20170312T070000
END:DAYLIGHT
BEGIN:STANDARD
TZOFFSETFROM:-0400
TZOFFSETTO:-0500
TZNAME:EST
DTSTART:20171105T060000
END:STANDARD
BEGIN:DAYLIGHT
TZOFFSETFROM:-0500
TZOFFSETTO:-0400
TZNAME:EDT
DTSTART:20180311T070000
END:DAYLIGHT
BEGIN:STANDARD
TZOFFSETFROM:-0400
TZOFFSETTO:-0500
TZNAME:EST
DTSTART:20181104T060000
END:STANDARD
BEGIN:DAYLIGHT
TZOFFSETFROM:-0500
TZOFFSETTO:-0400
TZNAME:EDT
DTSTART:20190310T070000
END:DAYLIGHT
BEGIN:STANDARD
TZOFFSETFROM:-0400
TZOFFSETTO:-0500
TZNAME:EST
DTSTART:20191103T060000
END:STANDARD
END:VTIMEZONE
BEGIN:VEVENT
DTSTART;TZID=America/New_York:20180227T120000
DTEND;TZID=America/New_York:20180227T190000
DTSTAMP:20260425T070746
CREATED:20180224T210835Z
LAST-MODIFIED:20180225T170446Z
UID:15465-1519732800-1519758000@spacepolicyonline.com
SUMMARY:NSF-NASA-DOE ASTRONOMY & ASTROPHYSICS ADV CMTE (AAAC)\, Feb 27\, 2018\, telecon\, 12:00-4:00 pm ET
DESCRIPTION:The NSF-NASA-DOE Astronomy and Astrophysics Advisory Committee (AAAC) will meet via telecon on February 27\, 2018 from 12:00-4:00 pm ET. \nThe agenda\, including information on how to dial-in to listen to the meeting\, is posted on the AAAC website. \nRepresentatives of each of the three agencies will make presentations about their respective FY2019 budget requests from 12:05-12:50 pm ET.  That includes NASA’s Paul Hertz.  The NASA FY2019 budget request proposes dramatic cuts to astrophysics\, including termination of the next large space telescope\, WFIRST. \n 
URL:https://spacepolicyonline.com/events/nsf-nasa-doe-astronomy-astrophysics-adv-cmte-aaac-feb-27-2018-telecon-1200-400-pm-et/
END:VEVENT
END:VCALENDAR