BEGIN:VCALENDAR
VERSION:2.0
PRODID:-//SpacePolicyOnline.com - ECPv6.15.11//NONSGML v1.0//EN
CALSCALE:GREGORIAN
METHOD:PUBLISH
X-WR-CALNAME:SpacePolicyOnline.com
X-ORIGINAL-URL:https://spacepolicyonline.com
X-WR-CALDESC:Events for SpacePolicyOnline.com
REFRESH-INTERVAL;VALUE=DURATION:PT1H
X-Robots-Tag:noindex
X-PUBLISHED-TTL:PT1H
BEGIN:VTIMEZONE
TZID:America/New_York
BEGIN:DAYLIGHT
TZOFFSETFROM:-0500
TZOFFSETTO:-0400
TZNAME:EDT
DTSTART:20220313T070000
END:DAYLIGHT
BEGIN:STANDARD
TZOFFSETFROM:-0400
TZOFFSETTO:-0500
TZNAME:EST
DTSTART:20221106T060000
END:STANDARD
BEGIN:DAYLIGHT
TZOFFSETFROM:-0500
TZOFFSETTO:-0400
TZNAME:EDT
DTSTART:20230312T070000
END:DAYLIGHT
BEGIN:STANDARD
TZOFFSETFROM:-0400
TZOFFSETTO:-0500
TZNAME:EST
DTSTART:20231105T060000
END:STANDARD
BEGIN:DAYLIGHT
TZOFFSETFROM:-0500
TZOFFSETTO:-0400
TZNAME:EDT
DTSTART:20240310T070000
END:DAYLIGHT
BEGIN:STANDARD
TZOFFSETFROM:-0400
TZOFFSETTO:-0500
TZNAME:EST
DTSTART:20241103T060000
END:STANDARD
END:VTIMEZONE
BEGIN:VEVENT
DTSTART;TZID=America/New_York:20230123T073000
DTEND;TZID=America/New_York:20230125T230000
DTSTAMP:20260422T071924
CREATED:20221028T154417Z
LAST-MODIFIED:20221028T154417Z
UID:57318-1674459000-1674687600@spacepolicyonline.com
SUMMARY:NSSA 2nd DEFENSE AND INTELLIGENCE SPACE CONFERENCE\, Jan 23-25\, 2023\, Chantilly\, VA
DESCRIPTION:The National Security Space Association (NSSA) will hold the 2nd Defense and Intelligence Space Conference from January 23-25\, 2023 at  Westfields Marriott Washington Dulles\, 14750 Conference Center Drive\, Chantilly\, VA. \nSome sessions are classified. \nMore information is on the event’s website\, which says: \n\nThis jam-packed event\, featuring an evening welcome reception and robust in-person sessions\, will uniquely focus on National Security Space and provide a platform for key leaders of the community to engage in fulsome dialogue on topics vitally important to our security posture. \nThrough high-value\, blended TS/SCI and unclassified presentations of rich and relevant content\, this conference will foster unity of effort and integration across government and industry.
URL:https://spacepolicyonline.com/events/nssa-2nd-defense-and-intelligence-space-conference-jan-23-25-2023-chantilly-va/
END:VEVENT
END:VCALENDAR