BEGIN:VCALENDAR
VERSION:2.0
PRODID:-//SpacePolicyOnline.com - ECPv6.15.11//NONSGML v1.0//EN
CALSCALE:GREGORIAN
METHOD:PUBLISH
X-WR-CALNAME:SpacePolicyOnline.com
X-ORIGINAL-URL:https://spacepolicyonline.com
X-WR-CALDESC:Events for SpacePolicyOnline.com
REFRESH-INTERVAL;VALUE=DURATION:PT1H
X-Robots-Tag:noindex
X-PUBLISHED-TTL:PT1H
BEGIN:VTIMEZONE
TZID:America/New_York
BEGIN:DAYLIGHT
TZOFFSETFROM:-0500
TZOFFSETTO:-0400
TZNAME:EDT
DTSTART:20200308T070000
END:DAYLIGHT
BEGIN:STANDARD
TZOFFSETFROM:-0400
TZOFFSETTO:-0500
TZNAME:EST
DTSTART:20201101T060000
END:STANDARD
BEGIN:DAYLIGHT
TZOFFSETFROM:-0500
TZOFFSETTO:-0400
TZNAME:EDT
DTSTART:20210314T070000
END:DAYLIGHT
BEGIN:STANDARD
TZOFFSETFROM:-0400
TZOFFSETTO:-0500
TZNAME:EST
DTSTART:20211107T060000
END:STANDARD
BEGIN:DAYLIGHT
TZOFFSETFROM:-0500
TZOFFSETTO:-0400
TZNAME:EDT
DTSTART:20220313T070000
END:DAYLIGHT
BEGIN:STANDARD
TZOFFSETFROM:-0400
TZOFFSETTO:-0500
TZNAME:EST
DTSTART:20221106T060000
END:STANDARD
END:VTIMEZONE
BEGIN:VEVENT
DTSTART;TZID=America/New_York:20211109T093000
DTEND;TZID=America/New_York:20211109T230000
DTSTAMP:20260420T170929
CREATED:20211023T211551Z
LAST-MODIFIED:20211107T173909Z
UID:47678-1636450200-1636498800@spacepolicyonline.com
SUMMARY:OFFENCE-DEFENCE RACE IN SPACE: MISSILE DEFENCE\, ASAT AND NUCLEAR ARMS CONTROL (SIPRI)\, Nov 9\, 2021\, virtual\, 9:30 am ET
DESCRIPTION:The Stockholm International Peace Research Institute (SIPRI) will hold the 2021 Stockholm Security Conference virtually from November 8-11\, 2021. \nOn November 9 from 15:30-16:45 Central European Time (9:30-10:45 am Eastern Standard Time)\, it will have a panel on “Offence-Defence Race in Space: Missile Defence\, Anti-satellite Weapons and Nuclear Arms Control.” \nParticipants are: \n\nLieutenant-General (Retired) Yevgeny Buzhinsky\, Moscow State University\nLaura Grego\, MIT Laboratory for Nuclear Security and Policy (on leave from Union of Concerned Scientists)\nDaniel Porras\, Secure World Foundation\nNivedita Raju\, SIPRI\nTong Zhao\, Carnegie-Tsinghua Center for Global Policy\nTytti Erästö\, SIPRI (moderator)\n\nMore information is on the event’s website.
URL:https://spacepolicyonline.com/events/offence-defence-race-in-space-missile-defense-asat-and-nuclear-arms-control-sipri-nov-9-2021-virtual-930-am-et/
END:VEVENT
END:VCALENDAR