BEGIN:VCALENDAR
VERSION:2.0
PRODID:-//SpacePolicyOnline.com - ECPv6.15.11//NONSGML v1.0//EN
CALSCALE:GREGORIAN
METHOD:PUBLISH
X-WR-CALNAME:SpacePolicyOnline.com
X-ORIGINAL-URL:https://spacepolicyonline.com
X-WR-CALDESC:Events for SpacePolicyOnline.com
REFRESH-INTERVAL;VALUE=DURATION:PT1H
X-Robots-Tag:noindex
X-PUBLISHED-TTL:PT1H
BEGIN:VTIMEZONE
TZID:America/New_York
BEGIN:DAYLIGHT
TZOFFSETFROM:-0500
TZOFFSETTO:-0400
TZNAME:EDT
DTSTART:20200308T070000
END:DAYLIGHT
BEGIN:STANDARD
TZOFFSETFROM:-0400
TZOFFSETTO:-0500
TZNAME:EST
DTSTART:20201101T060000
END:STANDARD
BEGIN:DAYLIGHT
TZOFFSETFROM:-0500
TZOFFSETTO:-0400
TZNAME:EDT
DTSTART:20210314T070000
END:DAYLIGHT
BEGIN:STANDARD
TZOFFSETFROM:-0400
TZOFFSETTO:-0500
TZNAME:EST
DTSTART:20211107T060000
END:STANDARD
BEGIN:DAYLIGHT
TZOFFSETFROM:-0500
TZOFFSETTO:-0400
TZNAME:EDT
DTSTART:20220313T070000
END:DAYLIGHT
BEGIN:STANDARD
TZOFFSETFROM:-0400
TZOFFSETTO:-0500
TZNAME:EST
DTSTART:20221106T060000
END:STANDARD
END:VTIMEZONE
BEGIN:VEVENT
DTSTART;TZID=America/New_York:20210621T160000
DTEND;TZID=America/New_York:20210621T230000
DTSTAMP:20260419T193341
CREATED:20210618T202804Z
LAST-MODIFIED:20210618T202804Z
UID:44858-1624291200-1624316400@spacepolicyonline.com
SUMMARY:OPERATION MOONGLOW: A POLITICAL HISTORY OF PROJECT APOLLO (Wilson Center)\, June 21\, 2021\, virtual\, 4:00 pm ET
DESCRIPTION:The Woodrow Wilson Center’s History and Public Policy Program will hold a webinar on June 21\, 2021 at 4:00 pm ET. \nTeasel Muir-Harmony will discuss her book\, Operation Moonglow: A Political History of Project Apollo. \nMore information and registration instructions are on the event’s website\, which says: \nOn 20 July 1969\, over half the world’s population witnessed Neil Armstrong’s first step on the Moon. While often remembered as a scientific and technological feat\, the ambitions of the Apollo program aimed far beyond the Moon. Through spaceflight\, America sought to win hearts and minds\, foster alliances\, and shape the political trajectories of newly independent nations. Drawing on a rich array of untapped archives and firsthand interviews\, Operation Moonglow knits together a story of politics and propaganda; diplomacy and spaceflight; decolonization and globalization to reveal the political forces that not only sent humans to the Moon but also attracted the largest audience in history. \nTeasel Muir-Harmony is the curator of the Apollo Collection at the Smithsonian National Air and Space Museum. She earned a PhD from MIT’s Program in History\, Anthropology\, and Science\, Technology\, and Society. Muir-Harmony is the author of Apollo to the Moon: A History in 50 Objects (2018)\, a co-editor and contributor to a special issue of the Pacific Historical Review on science and technology in Japanese-U.S. relations (2019)\, and an advisor to the television series Apollo’s Moon Shot. She co-organizes the Space Policy & History Forum\, serves on the Executive Council of the Society for the History of Technology\, and teaches in Georgetown University’s Science\, Technology and International Affairs program. \n 
URL:https://spacepolicyonline.com/events/operation-moonglow-a-political-history-of-project-apollo-wilson-center-june-21-2021-virtual-400-pm-et/
END:VEVENT
END:VCALENDAR