BEGIN:VCALENDAR
VERSION:2.0
PRODID:-//SpacePolicyOnline.com - ECPv6.15.11//NONSGML v1.0//EN
CALSCALE:GREGORIAN
METHOD:PUBLISH
X-WR-CALNAME:SpacePolicyOnline.com
X-ORIGINAL-URL:https://spacepolicyonline.com
X-WR-CALDESC:Events for SpacePolicyOnline.com
REFRESH-INTERVAL;VALUE=DURATION:PT1H
X-Robots-Tag:noindex
X-PUBLISHED-TTL:PT1H
BEGIN:VTIMEZONE
TZID:America/New_York
BEGIN:DAYLIGHT
TZOFFSETFROM:-0500
TZOFFSETTO:-0400
TZNAME:EDT
DTSTART:20220313T070000
END:DAYLIGHT
BEGIN:STANDARD
TZOFFSETFROM:-0400
TZOFFSETTO:-0500
TZNAME:EST
DTSTART:20221106T060000
END:STANDARD
BEGIN:DAYLIGHT
TZOFFSETFROM:-0500
TZOFFSETTO:-0400
TZNAME:EDT
DTSTART:20230312T070000
END:DAYLIGHT
BEGIN:STANDARD
TZOFFSETFROM:-0400
TZOFFSETTO:-0500
TZNAME:EST
DTSTART:20231105T060000
END:STANDARD
BEGIN:DAYLIGHT
TZOFFSETFROM:-0500
TZOFFSETTO:-0400
TZNAME:EDT
DTSTART:20240310T070000
END:DAYLIGHT
BEGIN:STANDARD
TZOFFSETFROM:-0400
TZOFFSETTO:-0500
TZNAME:EST
DTSTART:20241103T060000
END:STANDARD
END:VTIMEZONE
BEGIN:VEVENT
DTSTART;TZID=America/New_York:20230109T120000
DTEND;TZID=America/New_York:20230109T230000
DTSTAMP:20260422T112707
CREATED:20230101T182232Z
LAST-MODIFIED:20230101T183539Z
UID:59094-1673265600-1673305200@spacepolicyonline.com
SUMMARY:PHYSPAG\, Jan 9\, 2023\, Seattle\, WA\, 9:00-11:00 am PACIFIC Time
DESCRIPTION:NASA’s Physics of the Cosmos Program Analysis Group (PhysPAG) will meet in conjunction with the American Astronomical Society winter meeting in Seattle\, WA that is taking place January 8-12\, 2023. \nPhysPAG will meet on January 9\, 2023 from 9:00-11:00 am PACIFIC Time. More information is on the PhysPAG website. \n \nPhysPAG and two related PAGs\, EXOPAG and COPAG\, also will meet jointly on January 8. See our separate Joint PAG calendar entry.
URL:https://spacepolicyonline.com/events/physpag-jan-9-2023-seattle-wa-1200-200-pm-et/
END:VEVENT
END:VCALENDAR