BEGIN:VCALENDAR
VERSION:2.0
PRODID:-//SpacePolicyOnline.com - ECPv6.15.11//NONSGML v1.0//EN
CALSCALE:GREGORIAN
METHOD:PUBLISH
X-WR-CALNAME:SpacePolicyOnline.com
X-ORIGINAL-URL:https://spacepolicyonline.com
X-WR-CALDESC:Events for SpacePolicyOnline.com
REFRESH-INTERVAL;VALUE=DURATION:PT1H
X-Robots-Tag:noindex
X-PUBLISHED-TTL:PT1H
BEGIN:VTIMEZONE
TZID:America/New_York
BEGIN:DAYLIGHT
TZOFFSETFROM:-0500
TZOFFSETTO:-0400
TZNAME:EDT
DTSTART:20200308T070000
END:DAYLIGHT
BEGIN:STANDARD
TZOFFSETFROM:-0400
TZOFFSETTO:-0500
TZNAME:EST
DTSTART:20201101T060000
END:STANDARD
BEGIN:DAYLIGHT
TZOFFSETFROM:-0500
TZOFFSETTO:-0400
TZNAME:EDT
DTSTART:20210314T070000
END:DAYLIGHT
BEGIN:STANDARD
TZOFFSETFROM:-0400
TZOFFSETTO:-0500
TZNAME:EST
DTSTART:20211107T060000
END:STANDARD
BEGIN:DAYLIGHT
TZOFFSETFROM:-0500
TZOFFSETTO:-0400
TZNAME:EDT
DTSTART:20220313T070000
END:DAYLIGHT
BEGIN:STANDARD
TZOFFSETFROM:-0400
TZOFFSETTO:-0500
TZNAME:EST
DTSTART:20221106T060000
END:STANDARD
END:VTIMEZONE
BEGIN:VEVENT
DTSTART;TZID=America/New_York:20210204T220000
DTEND;TZID=America/New_York:20210204T230000
DTSTAMP:20260419T174656
CREATED:20210204T205031Z
LAST-MODIFIED:20210204T205031Z
UID:41311-1612476000-1612479600@spacepolicyonline.com
SUMMARY:PLANETARY PROTECTION FOR MARS 2020 (PERSEVERANCE)\, Feb 4\, 2021\, virtual\, 10:00 pm ET
DESCRIPTION:Dr. Moogega Cooper\, Planetary Protection Lead for Mars 2020 (or Mars Perseverance) at the Jet Propulsion Laboratory will present a lecture in JPL’s Von Karman series about preventing contamination during missions around the solar system and making sure they don’t bring anything dangerous back with them. \nMore information and a link to watch the lecture are on the event’s website.
URL:https://spacepolicyonline.com/events/planetary-protection-for-mars-2020-perseverance-feb-4-2021-virtual-1000-pm-et/
END:VEVENT
END:VCALENDAR