BEGIN:VCALENDAR
VERSION:2.0
PRODID:-//SpacePolicyOnline.com - ECPv6.15.11//NONSGML v1.0//EN
CALSCALE:GREGORIAN
METHOD:PUBLISH
X-WR-CALNAME:SpacePolicyOnline.com
X-ORIGINAL-URL:https://spacepolicyonline.com
X-WR-CALDESC:Events for SpacePolicyOnline.com
REFRESH-INTERVAL;VALUE=DURATION:PT1H
X-Robots-Tag:noindex
X-PUBLISHED-TTL:PT1H
BEGIN:VTIMEZONE
TZID:America/New_York
BEGIN:DAYLIGHT
TZOFFSETFROM:-0500
TZOFFSETTO:-0400
TZNAME:EDT
DTSTART:20200308T070000
END:DAYLIGHT
BEGIN:STANDARD
TZOFFSETFROM:-0400
TZOFFSETTO:-0500
TZNAME:EST
DTSTART:20201101T060000
END:STANDARD
BEGIN:DAYLIGHT
TZOFFSETFROM:-0500
TZOFFSETTO:-0400
TZNAME:EDT
DTSTART:20210314T070000
END:DAYLIGHT
BEGIN:STANDARD
TZOFFSETFROM:-0400
TZOFFSETTO:-0500
TZNAME:EST
DTSTART:20211107T060000
END:STANDARD
BEGIN:DAYLIGHT
TZOFFSETFROM:-0500
TZOFFSETTO:-0400
TZNAME:EDT
DTSTART:20220313T070000
END:DAYLIGHT
BEGIN:STANDARD
TZOFFSETFROM:-0400
TZOFFSETTO:-0500
TZNAME:EST
DTSTART:20221106T060000
END:STANDARD
END:VTIMEZONE
BEGIN:VEVENT
DTSTART;TZID=America/New_York:20210428T230000
DTEND;TZID=America/New_York:20210428T235900
DTSTAMP:20260420T113641
CREATED:20210411T200152Z
LAST-MODIFIED:20210411T201548Z
UID:42992-1619650800-1619654340@spacepolicyonline.com
SUMMARY:POSSIBLE LAUNCH OF CHINA'S CORE SPACE STATION MODULE\, Apr 28\, 2021 EDT (Apr 29 UTC)??
DESCRIPTION:Twitter user @Cosmic_Penguin\, based in Hong Kong\, tweeted on April 11 these rumored dates for the launch of the core module for China’s new space station\, Tianhe. He also tweeted dates for a logistics flight of the Tianzhou cargo ship and the first crew. \nHe is an experienced observer of China’s space program with good sources\, but the Chinese government has not officially announced these dates so they are only rumors at this point. \nThe rumor for the Tianhe launch is April 29 at 3:18 UTC (universal time\, also referred to as GMT or Zulu). That would be April 28\, 11:18 pm Eastern Daylight Time. \n\nRegarding the initial phase of construction of the Chinese Space Station\, there is now rumor of exact dates: \n– Launch of Tianhe Core Module/LM-5B on April 29 @ 03:18 UTC\n– Launch of Tianzhou 2 logistics S/C/LM-7 on May 12\n– Launch of 1st crew mission Shenzhou 12/LM-2F on June 12 \n— Cosmic Penguin (@Cosmic_Penguin) April 11\, 2021
URL:https://spacepolicyonline.com/events/possible-launch-of-chinas-core-space-station-module-apr-28-2021-edt-apr-29-utc/
END:VEVENT
END:VCALENDAR