BEGIN:VCALENDAR
VERSION:2.0
PRODID:-//SpacePolicyOnline.com - ECPv6.15.11//NONSGML v1.0//EN
CALSCALE:GREGORIAN
METHOD:PUBLISH
X-WR-CALNAME:SpacePolicyOnline.com
X-ORIGINAL-URL:https://spacepolicyonline.com
X-WR-CALDESC:Events for SpacePolicyOnline.com
REFRESH-INTERVAL;VALUE=DURATION:PT1H
X-Robots-Tag:noindex
X-PUBLISHED-TTL:PT1H
BEGIN:VTIMEZONE
TZID:America/New_York
BEGIN:DAYLIGHT
TZOFFSETFROM:-0500
TZOFFSETTO:-0400
TZNAME:EDT
DTSTART:20220313T070000
END:DAYLIGHT
BEGIN:STANDARD
TZOFFSETFROM:-0400
TZOFFSETTO:-0500
TZNAME:EST
DTSTART:20221106T060000
END:STANDARD
BEGIN:DAYLIGHT
TZOFFSETFROM:-0500
TZOFFSETTO:-0400
TZNAME:EDT
DTSTART:20230312T070000
END:DAYLIGHT
BEGIN:STANDARD
TZOFFSETFROM:-0400
TZOFFSETTO:-0500
TZNAME:EST
DTSTART:20231105T060000
END:STANDARD
BEGIN:DAYLIGHT
TZOFFSETFROM:-0500
TZOFFSETTO:-0400
TZNAME:EDT
DTSTART:20240310T070000
END:DAYLIGHT
BEGIN:STANDARD
TZOFFSETFROM:-0400
TZOFFSETTO:-0500
TZNAME:EST
DTSTART:20241103T060000
END:STANDARD
END:VTIMEZONE
BEGIN:VEVENT
DTSTART;TZID=America/New_York:20230414T103000
DTEND;TZID=America/New_York:20230414T230000
DTSTAMP:20260425T144539
CREATED:20230406T161119Z
LAST-MODIFIED:20230413T121058Z
UID:61179-1681468200-1681513200@spacepolicyonline.com
SUMMARY:POST-LAUNCH PRESS CONFERENCE FOR ESA'S JUICE MISSION\, Apr 14\, 2023\, virtual\, 10:30 am ET
DESCRIPTION:Update\, April 13: The launch was scrubbed due to weather and has been rescheduled for April 14 at 8:14 am ET. Presumably this press conference is similarly rescheduled. \nOrginal Entry: ESA will hold a post-launch press conference following the launch of the Jupiter Icy Moons Explorer (JUICE) mission at 16:30 CEST (10:30 am EDT). \nIt will be broadcast on ESA TV and YouTube.
URL:https://spacepolicyonline.com/events/post-launch-press-conference-for-esas-juice-mission-apr-13-2023-virtual-1030-am-et/
END:VEVENT
END:VCALENDAR