BEGIN:VCALENDAR
VERSION:2.0
PRODID:-//SpacePolicyOnline.com - ECPv6.15.11//NONSGML v1.0//EN
CALSCALE:GREGORIAN
METHOD:PUBLISH
X-WR-CALNAME:SpacePolicyOnline.com
X-ORIGINAL-URL:https://spacepolicyonline.com
X-WR-CALDESC:Events for SpacePolicyOnline.com
REFRESH-INTERVAL;VALUE=DURATION:PT1H
X-Robots-Tag:noindex
X-PUBLISHED-TTL:PT1H
BEGIN:VTIMEZONE
TZID:America/New_York
BEGIN:DAYLIGHT
TZOFFSETFROM:-0500
TZOFFSETTO:-0400
TZNAME:EDT
DTSTART:20250309T070000
END:DAYLIGHT
BEGIN:STANDARD
TZOFFSETFROM:-0400
TZOFFSETTO:-0500
TZNAME:EST
DTSTART:20251102T060000
END:STANDARD
BEGIN:DAYLIGHT
TZOFFSETFROM:-0500
TZOFFSETTO:-0400
TZNAME:EDT
DTSTART:20260308T070000
END:DAYLIGHT
BEGIN:STANDARD
TZOFFSETFROM:-0400
TZOFFSETTO:-0500
TZNAME:EST
DTSTART:20261101T060000
END:STANDARD
BEGIN:DAYLIGHT
TZOFFSETFROM:-0500
TZOFFSETTO:-0400
TZNAME:EDT
DTSTART:20270314T070000
END:DAYLIGHT
BEGIN:STANDARD
TZOFFSETFROM:-0400
TZOFFSETTO:-0500
TZNAME:EST
DTSTART:20271107T060000
END:STANDARD
END:VTIMEZONE
BEGIN:VEVENT
DTSTART;TZID=America/New_York:20260427T191500
DTEND;TZID=America/New_York:20260427T230000
DTSTAMP:20260425T171112
CREATED:20260425T181037Z
LAST-MODIFIED:20260425T181037Z
UID:88580-1777317300-1777330800@spacepolicyonline.com
SUMMARY:PROGRESS MS-34 DOCKS WITH ISS\, Apr 27\, 2026\, Earth orbit\, 8:00 pm ET
DESCRIPTION:Roscosmos’s Progress MS-34 cargo spacecraft is scheduled to launch on April 25\, 2026 at 6:21 pm ET. \nIf launch goes as planned\, it will dock with the International Space Station on April 27\, 2026 at 8:00 pm ET. \nNASA will provide live docking coverage starting at 7:15 p.m.\, on NASA+\, Amazon Prime\, and the agency’s YouTube channel. \nMore information is in NASA’s press release. NASA refers to this as Progress 95 because it is the 95th Progress to resupply the ISS\, but there were dozens of earlier Progress missions that resupplied Soviet/Russian space stations starting in 1978.
URL:https://spacepolicyonline.com/events/progress-ms-34-docks-with-iss-apr-27-2026-earth-orbit-800-pm-et/
END:VEVENT
END:VCALENDAR