BEGIN:VCALENDAR
VERSION:2.0
PRODID:-//SpacePolicyOnline.com - ECPv6.15.11//NONSGML v1.0//EN
CALSCALE:GREGORIAN
METHOD:PUBLISH
X-WR-CALNAME:SpacePolicyOnline.com
X-ORIGINAL-URL:https://spacepolicyonline.com
X-WR-CALDESC:Events for SpacePolicyOnline.com
REFRESH-INTERVAL;VALUE=DURATION:PT1H
X-Robots-Tag:noindex
X-PUBLISHED-TTL:PT1H
BEGIN:VTIMEZONE
TZID:America/New_York
BEGIN:DAYLIGHT
TZOFFSETFROM:-0500
TZOFFSETTO:-0400
TZNAME:EDT
DTSTART:20240310T070000
END:DAYLIGHT
BEGIN:STANDARD
TZOFFSETFROM:-0400
TZOFFSETTO:-0500
TZNAME:EST
DTSTART:20241103T060000
END:STANDARD
BEGIN:DAYLIGHT
TZOFFSETFROM:-0500
TZOFFSETTO:-0400
TZNAME:EDT
DTSTART:20250309T070000
END:DAYLIGHT
BEGIN:STANDARD
TZOFFSETFROM:-0400
TZOFFSETTO:-0500
TZNAME:EST
DTSTART:20251102T060000
END:STANDARD
BEGIN:DAYLIGHT
TZOFFSETFROM:-0500
TZOFFSETTO:-0400
TZNAME:EDT
DTSTART:20260308T070000
END:DAYLIGHT
BEGIN:STANDARD
TZOFFSETFROM:-0400
TZOFFSETTO:-0500
TZNAME:EST
DTSTART:20261101T060000
END:STANDARD
END:VTIMEZONE
BEGIN:VEVENT
DTSTART;TZID=America/New_York:20251023T120000
DTEND;TZID=America/New_York:20251023T230000
DTSTAMP:20260425T085210
CREATED:20251015T123851Z
LAST-MODIFIED:20251015T123851Z
UID:84422-1761220800-1761260400@spacepolicyonline.com
SUMMARY:REDSHIFT: CHINA AND THE THREAT TO U.S. LEADERSHIP IN SPACE (BEI/CSF)\, Oct 23\, 2025\, virtual\, 12:00-1:30 pm ET
DESCRIPTION:The Beyond Earth Institute (BEI) and the Commercial Space Federation (CSF) will hold a webinar on October 23\, 2025 from 12:00-1:30 pm ET. \nThe topic is “Redshift: China and the Threat to U.S. Leadership in Space.”  More information is on the event’s website. \nParticipants are: \n\nLauren Andrade (Moderator) – Director of Marketing & Communications\, Beyond Earth Institute\nJonathan Roll – Author of Redshift\, Arizona State University\nAlicia Brown – Executive Director\, Commercial Space Federation\nGreg Autry – CFO Nominee\, NASA\nJim Frelk – Senior Vice President\, Data Services\, Intuitive Machines\n\n \n 
URL:https://spacepolicyonline.com/events/redshift-china-and-the-threat-to-u-s-leadership-in-space-bei-csf-oct-23-2025-virtual-1200-130-pm-et/
END:VEVENT
END:VCALENDAR