BEGIN:VCALENDAR
VERSION:2.0
PRODID:-//SpacePolicyOnline.com - ECPv6.15.11//NONSGML v1.0//EN
CALSCALE:GREGORIAN
METHOD:PUBLISH
X-WR-CALNAME:SpacePolicyOnline.com
X-ORIGINAL-URL:https://spacepolicyonline.com
X-WR-CALDESC:Events for SpacePolicyOnline.com
REFRESH-INTERVAL;VALUE=DURATION:PT1H
X-Robots-Tag:noindex
X-PUBLISHED-TTL:PT1H
BEGIN:VTIMEZONE
TZID:America/New_York
BEGIN:DAYLIGHT
TZOFFSETFROM:-0500
TZOFFSETTO:-0400
TZNAME:EDT
DTSTART:20200308T070000
END:DAYLIGHT
BEGIN:STANDARD
TZOFFSETFROM:-0400
TZOFFSETTO:-0500
TZNAME:EST
DTSTART:20201101T060000
END:STANDARD
BEGIN:DAYLIGHT
TZOFFSETFROM:-0500
TZOFFSETTO:-0400
TZNAME:EDT
DTSTART:20210314T070000
END:DAYLIGHT
BEGIN:STANDARD
TZOFFSETFROM:-0400
TZOFFSETTO:-0500
TZNAME:EST
DTSTART:20211107T060000
END:STANDARD
BEGIN:DAYLIGHT
TZOFFSETFROM:-0500
TZOFFSETTO:-0400
TZNAME:EDT
DTSTART:20220313T070000
END:DAYLIGHT
BEGIN:STANDARD
TZOFFSETFROM:-0400
TZOFFSETTO:-0500
TZNAME:EST
DTSTART:20221106T060000
END:STANDARD
END:VTIMEZONE
BEGIN:VEVENT
DTSTART;TZID=America/New_York:20210624T110000
DTEND;TZID=America/New_York:20210624T230000
DTSTAMP:20260419T140632
CREATED:20210610T182850Z
LAST-MODIFIED:20210610T182850Z
UID:44628-1624532400-1624575600@spacepolicyonline.com
SUMMARY:REGISTERING LUNAR ACTIVITIES: SOLUTIONS TO SHORTCOMINGS OF CURRENT LAW AND PRACTICE (Moon Dialogs)\, June 24\, 2021\, virtual\, 11:00 am-1:00 pm ET
DESCRIPTION:The Moon Dialogs will hold the next “salon” on June 24\, 2021 from 11:oo am – 1:00 pm ET. \nThe topic is “Registering Lunar Activities:  Solutions to the Shortcomings of Current Law and Practice.” \nParticipants are: \nDr Mark Sundahl\, Professor of Law and Director of the Global Space Law Center at Cleveland State University \nAntonino Salmeri\, Lead of SGAC’s E.A.G.L.E. Team and Doctoral Research in Space Law at the University of Luxembourg \nJessy Kate Schingler\, Director of Governance and Policy at the Open Lunar Foundation \nMore information and registration instructions are on the event’s website\, which says: \nThis salon is part of our Sustainable Moon series and features the first public workshop of The Registration Project and will feature a number of space law experts. The Registration Project was launched to address the shortcomings of existing law and practice regarding registration as humankind returns to the Moon. The Project is a joint venture of the Moon Village Association (MVA) and the Global Space Law Center (GSLC) at Cleveland State University. \nFinally\, this salon is a follow-up to a Moon Dialogs salon hosted in September 2020. In preparation for our upcoming salon on 24 June\, we encourage you to watch this previous salon and read the report.
URL:https://spacepolicyonline.com/events/registering-lunar-activities-solutions-to-shortcomings-of-current-law-and-practice-moon-dialogs-june-24-2021-virtual-1100-am-100-pm-et/
END:VEVENT
END:VCALENDAR