BEGIN:VCALENDAR
VERSION:2.0
PRODID:-//SpacePolicyOnline.com - ECPv6.15.11//NONSGML v1.0//EN
CALSCALE:GREGORIAN
METHOD:PUBLISH
X-WR-CALNAME:SpacePolicyOnline.com
X-ORIGINAL-URL:https://spacepolicyonline.com
X-WR-CALDESC:Events for SpacePolicyOnline.com
REFRESH-INTERVAL;VALUE=DURATION:PT1H
X-Robots-Tag:noindex
X-PUBLISHED-TTL:PT1H
BEGIN:VTIMEZONE
TZID:America/New_York
BEGIN:DAYLIGHT
TZOFFSETFROM:-0500
TZOFFSETTO:-0400
TZNAME:EDT
DTSTART:20210314T070000
END:DAYLIGHT
BEGIN:STANDARD
TZOFFSETFROM:-0400
TZOFFSETTO:-0500
TZNAME:EST
DTSTART:20211107T060000
END:STANDARD
BEGIN:DAYLIGHT
TZOFFSETFROM:-0500
TZOFFSETTO:-0400
TZNAME:EDT
DTSTART:20220313T070000
END:DAYLIGHT
BEGIN:STANDARD
TZOFFSETFROM:-0400
TZOFFSETTO:-0500
TZNAME:EST
DTSTART:20221106T060000
END:STANDARD
BEGIN:DAYLIGHT
TZOFFSETFROM:-0500
TZOFFSETTO:-0400
TZNAME:EDT
DTSTART:20230312T070000
END:DAYLIGHT
BEGIN:STANDARD
TZOFFSETFROM:-0400
TZOFFSETTO:-0500
TZNAME:EST
DTSTART:20231105T060000
END:STANDARD
END:VTIMEZONE
BEGIN:VEVENT
DTSTART;TZID=America/New_York:20220223T110000
DTEND;TZID=America/New_York:20220223T230000
DTSTAMP:20260419T222515
CREATED:20220213T180849Z
LAST-MODIFIED:20220220T220918Z
UID:50519-1645614000-1645657200@spacepolicyonline.com
SUMMARY:REGOLITH TO REBAR: ISRU-E&C METAL WORKSHOP (LSIC)\, Feb 23\, 2022\, virtual\, 11:00 am-5:00 pm ET
DESCRIPTION:The Lunar Surface Innovation Consortium (LSIC) will hold a virtual workshop on February 23\, 2022 from 11:00 am – 5:00 pm ET. \nThe topic is: “Regolith to Rebar: ISRU-E&C Metal Workshop.” \nMore information is on the event’s website\, which says: \nThe Lunar Surface Innovation Consortium (LSIC) is hosting a one-day virtual workshop that looks into the supply and demand sides of in-situ derived metals and metalloids that are derived from O2-extraction technologies. We plan to bring together lunar In-Situ Resource Utilization (ISRU) developers to represent the supply side and Excavation & Construction (E&C) focus group participants to represent the demand side\, in an early attempt to link the in-situ production\, the processing and the use/consumption of metals and metal-like by-products that result from O2 production technologies on the lunar surface. The workshop will consist of 10-minute long talks from the two perspectives\, followed by a panel discussion accompanied by an interactive Miro board session(s) in tandem. This workshop is intended to lay the foundation for the development of an eco-system in this nascent field of lunar ISRU metals and to strengthen public-private partnership. Our over-arching goal is to develop a common and realistic mutual understanding of what is possible for metal ISRU in the near-term (next 5-10 years). \n  \n 
URL:https://spacepolicyonline.com/events/regolith-to-rebar-isru-ec-metal-workshop-lsic-feb-23-2022-virtual-1100-am-500-pm-et/
END:VEVENT
END:VCALENDAR