BEGIN:VCALENDAR
VERSION:2.0
PRODID:-//SpacePolicyOnline.com - ECPv6.15.11//NONSGML v1.0//EN
CALSCALE:GREGORIAN
METHOD:PUBLISH
X-WR-CALNAME:SpacePolicyOnline.com
X-ORIGINAL-URL:https://spacepolicyonline.com
X-WR-CALDESC:Events for SpacePolicyOnline.com
REFRESH-INTERVAL;VALUE=DURATION:PT1H
X-Robots-Tag:noindex
X-PUBLISHED-TTL:PT1H
BEGIN:VTIMEZONE
TZID:America/New_York
BEGIN:DAYLIGHT
TZOFFSETFROM:-0500
TZOFFSETTO:-0400
TZNAME:EDT
DTSTART:20200308T070000
END:DAYLIGHT
BEGIN:STANDARD
TZOFFSETFROM:-0400
TZOFFSETTO:-0500
TZNAME:EST
DTSTART:20201101T060000
END:STANDARD
BEGIN:DAYLIGHT
TZOFFSETFROM:-0500
TZOFFSETTO:-0400
TZNAME:EDT
DTSTART:20210314T070000
END:DAYLIGHT
BEGIN:STANDARD
TZOFFSETFROM:-0400
TZOFFSETTO:-0500
TZNAME:EST
DTSTART:20211107T060000
END:STANDARD
BEGIN:DAYLIGHT
TZOFFSETFROM:-0500
TZOFFSETTO:-0400
TZNAME:EDT
DTSTART:20220313T070000
END:DAYLIGHT
BEGIN:STANDARD
TZOFFSETFROM:-0400
TZOFFSETTO:-0500
TZNAME:EST
DTSTART:20221106T060000
END:STANDARD
END:VTIMEZONE
BEGIN:VEVENT
DTSTART;TZID=America/New_York:20210721T063000
DTEND;TZID=America/New_York:20210721T230000
DTSTAMP:20260419T124836
CREATED:20210715T223857Z
LAST-MODIFIED:20210715T223857Z
UID:45376-1626849000-1626908400@spacepolicyonline.com
SUMMARY:RELOCATION OF CREW DRAGON ENDEAVOUR\, July 21\, 2021\, Earth orbit\, 6:45 am ET
DESCRIPTION:The four astronauts who arrived at the International Space Station (ISS) on SpaceX’s Crew Dragon Endeavour on the Crew-2 mission will reboard the spacecraft to make a brief trip on July 21\, 2021 to move it from one docking port to another. \nNASA’s Shane Kimbrough and Megan McArthur\, JAXA’s Aki Hoshide\, and ESA’s Thomas Pesquet will board the spacecraft about 4:30 am ET\, undock from the forward port of the Harmony module at 6:45 am ET\, and redock at the space-facing Harmony port at 7:32 am ET. \nNASA TV coverage begins at 6:30 am ET. \nThat will free up the forward Harmony port for the arrival of Boeing’s uncrewed Starliner spacecraft for its Orbital Flight Test-2 (OFT-2) mission later this month. \nAll four astronauts must be aboard Crew Dragon in case anything goes awry and they have to return to Earth. Endeavour is the ride up to and back from the ISS for all of them. \nNASA is procuring crew transportation services from SpaceX (Crew Dragon) and Boeing (Starliner) as Public-Private Parntnerships. The government and the companies both paid for development of the systems\, but the companies retain ownership and sell services to NASA. \nThis will be the first time a spacecraft from each company will be docked to the ISS at the same time. \nBoeing’s OFT-2 is a second uncrewed Starliner test. The first\, in December 2019\, did not go as planned and Boeing decided to re-do it. OFT-2 is scheduled to launch on July 30. If all goes well\, a Crew Flight Test (CFT) is expected before the end of the year and operational flights in 2022.  SpaceX’s Crew Dragon is already operational.
URL:https://spacepolicyonline.com/events/relocation-of-crew-dragon-endeavour-july-21-2021-earth-orbit-645-am-et/
END:VEVENT
END:VCALENDAR