BEGIN:VCALENDAR
VERSION:2.0
PRODID:-//SpacePolicyOnline.com - ECPv6.15.11//NONSGML v1.0//EN
CALSCALE:GREGORIAN
METHOD:PUBLISH
X-WR-CALNAME:SpacePolicyOnline.com
X-ORIGINAL-URL:https://spacepolicyonline.com
X-WR-CALDESC:Events for SpacePolicyOnline.com
REFRESH-INTERVAL;VALUE=DURATION:PT1H
X-Robots-Tag:noindex
X-PUBLISHED-TTL:PT1H
BEGIN:VTIMEZONE
TZID:America/New_York
BEGIN:DAYLIGHT
TZOFFSETFROM:-0500
TZOFFSETTO:-0400
TZNAME:EDT
DTSTART:20200308T070000
END:DAYLIGHT
BEGIN:STANDARD
TZOFFSETFROM:-0400
TZOFFSETTO:-0500
TZNAME:EST
DTSTART:20201101T060000
END:STANDARD
BEGIN:DAYLIGHT
TZOFFSETFROM:-0500
TZOFFSETTO:-0400
TZNAME:EDT
DTSTART:20210314T070000
END:DAYLIGHT
BEGIN:STANDARD
TZOFFSETFROM:-0400
TZOFFSETTO:-0500
TZNAME:EST
DTSTART:20211107T060000
END:STANDARD
BEGIN:DAYLIGHT
TZOFFSETFROM:-0500
TZOFFSETTO:-0400
TZNAME:EDT
DTSTART:20220313T070000
END:DAYLIGHT
BEGIN:STANDARD
TZOFFSETFROM:-0400
TZOFFSETTO:-0500
TZNAME:EST
DTSTART:20221106T060000
END:STANDARD
END:VTIMEZONE
BEGIN:VEVENT
DTSTART;TZID=America/New_York:20210319T133000
DTEND;TZID=America/New_York:20210319T230000
DTSTAMP:20260420T032917
CREATED:20210315T152645Z
LAST-MODIFIED:20210315T152645Z
UID:42322-1616160600-1616194800@spacepolicyonline.com
SUMMARY:REMEMBERING THE FIRST "SPACE WAR": DISC W/LT GEN B. CHANCE SALTZMAN (Brookings)\, Mar 19\, 2021\, virtual\, 1:30-2:30 pm ET
DESCRIPTION:The Brookings Institution will hold a webinar on March 19\, 2021 from 1:30-2:30 pm ET on “Remembering the First ‘Space War’: A Discussion with Lt. Gen. B. Chance Saltzman.”  He is Deputy Chief of Space Operations\, U.S. Space Force. \nOperation Desert Storm\, also known as the 1991 Persian Gulf War\, is often referred to as the first “space war” because of its heavy reliance on space systems such as GPS. \nThis webinar will look at “What were the key lessons of Operation Desert Storm for the national security space? And how have those lessons impacted the U.S. military’s current approach to space operations?” \nMore information is on the event’s website.
URL:https://spacepolicyonline.com/events/remembering-the-first-space-war-disc-w-lt-gen-b-chance-saltzman-brookings-mar-19-2021-virtual-130-230-pm-et/
END:VEVENT
END:VCALENDAR